BEGIN:VCALENDAR
VERSION:2.0
PRODID:-//jEvents 2.0 for Joomla//EN
CALSCALE:GREGORIAN
METHOD:PUBLISH
BEGIN:VTIMEZONE
TZID:Europe/Berlin
BEGIN:STANDARD
DTSTART:20231029T020000
RDATE:20240331T030000
TZOFFSETFROM:+0200
TZOFFSETTO:+0100
TZNAME:Europe/Berlin CET
END:STANDARD
BEGIN:STANDARD
DTSTART:20241027T020000
RDATE:20250330T030000
TZOFFSETFROM:+0200
TZOFFSETTO:+0100
TZNAME:Europe/Berlin CET
END:STANDARD
BEGIN:STANDARD
DTSTART:20251026T020000
RDATE:20260329T030000
TZOFFSETFROM:+0200
TZOFFSETTO:+0100
TZNAME:Europe/Berlin CET
END:STANDARD
BEGIN:STANDARD
DTSTART:20261025T020000
RDATE:20270328T030000
TZOFFSETFROM:+0200
TZOFFSETTO:+0100
TZNAME:Europe/Berlin CET
END:STANDARD
BEGIN:STANDARD
DTSTART:20271031T020000
RDATE:20280326T030000
TZOFFSETFROM:+0200
TZOFFSETTO:+0100
TZNAME:Europe/Berlin CET
END:STANDARD
BEGIN:DAYLIGHT
DTSTART:20230601T000000
RDATE:20231029T020000
TZOFFSETFROM:+0100
TZOFFSETTO:+0200
TZNAME:Europe/Berlin CEST
END:DAYLIGHT
BEGIN:DAYLIGHT
DTSTART:20240331T030000
RDATE:20241027T020000
TZOFFSETFROM:+0100
TZOFFSETTO:+0200
TZNAME:Europe/Berlin CEST
END:DAYLIGHT
BEGIN:DAYLIGHT
DTSTART:20250330T030000
RDATE:20251026T020000
TZOFFSETFROM:+0100
TZOFFSETTO:+0200
TZNAME:Europe/Berlin CEST
END:DAYLIGHT
BEGIN:DAYLIGHT
DTSTART:20260329T030000
RDATE:20261025T020000
TZOFFSETFROM:+0100
TZOFFSETTO:+0200
TZNAME:Europe/Berlin CEST
END:DAYLIGHT
BEGIN:DAYLIGHT
DTSTART:20270328T030000
RDATE:20271031T020000
TZOFFSETFROM:+0100
TZOFFSETTO:+0200
TZNAME:Europe/Berlin CEST
END:DAYLIGHT
END:VTIMEZONE
BEGIN:VEVENT
UID:0d7528253e7b9112a8dbe321211af754
CATEGORIES:Extern
CREATED:19700101T010000
SUMMARY:Termine - Helitreffen MSV Condor in Göttingen
LOCATION:Modellflugplatz\, Elliehausen
URL;VALUE=URI:https://mbg-lilienthal.de/termine/alles-ausser-fliegen/23453/helitreffen-ms
 v-condor-in-göttingen?tmpl=component
DESCRIPTION:11. Göttinger Heli Treffen Veranstaltung außerhalb der MBG\nDer MSV Condor 
 lädt wieder alle Heli Piloten aus nah und fern zu 2 Tagen stressfreiem Flie
 gen auf seinen Modellflugplatz oberhalb von Göttingen-Elliehausen ein. Jede
 r, der einen Modellhubschrauber fliegt, ist willkommen, vom Anfänger bis zu
 m Profi, vom 3D Extremkunstflug bis zum perfekt nachgebauten Scale Hubschra
 uber. Zuschauer, Verwandte und Bekannte sind natürlich auch gern gesehen. D
 er Eintritt frei.\nCamping ist möglich und erwünscht. Sie werden dafür den 
 südlichen Teil unseres Platzes sperren, um genug Platz zu haben.  Strom, Wa
 sser und Dixies sind vorhanden. Auch für das leibliche Wohl wird gesorgt! D
 ie Anreise ist ab Freitag möglich.\nUm einen Überblick über die Teilnehmerz
 ahl zu bekommen, bitten sie um vorherige Anmeldung per E-Mail unter Helitre
 ff@MSV-Condor.de (mailto:Helitreff@MSV-Condor.de)\nBitte gebt auch an, and 
 welchen Tagen ihr teilnehmt.\nBitte vergesst nicht, einen gültigen Versiche
 rungsnachweis mitzubringen, wenn ihr fliegen wollt.\nEs wäre schön, wenn au
 ch am Sonntag noch genügend Piloten vor Ort sind, um den Zuschauern noch sc
 höne Flüge bieten zu können.\n \nAnsprechpartner ist: Wolfgang Schmitt (Sch
 riftführer) über obige Eventmailadresse.\n Dieser Event wurde importiert vo
 n: https://mbg-lilienthal.de/termine/alles-ausser-fliegen/23453/helitreffen
 -msv-condor-in-göttingen?tmpl=component (https://mbg-lilienthal.de/termine/
 alles-ausser-fliegen/23453/helitreffen-msv-condor-in-göttingen?tmpl=compone
 nt)
X-ALT-DESC;FMTTYPE=text/html:<h1><strong>11. Göttinger Heli Treffen </strong></h1><p><em><strong>Veranst
 altung außerhalb der MBG</strong></em></p><p>Der MSV Condor lädt wieder all
 e Heli Piloten aus nah und fern zu 2 Tagen stressfreiem Fliegen auf seinen 
 Modellflugplatz oberhalb von Göttingen-Elliehausen ein. Jeder, der einen Mo
 dellhubschrauber fliegt, ist willkommen, vom Anfänger bis zum Profi, vom 3D
  Extremkunstflug bis zum perfekt nachgebauten Scale Hubschrauber. Zuschauer
 , Verwandte und Bekannte sind natürlich auch gern gesehen. Der Eintritt fre
 i.</p><p>Camping ist möglich und erwünscht. Sie werden dafür den südlichen 
 Teil unseres Platzes sperren, um genug Platz zu haben.  Strom, Wasser und D
 ixies sind vorhanden. Auch für das leibliche Wohl wird gesorgt! Die Anreise
  ist ab Freitag möglich.</p><p>Um einen Überblick über die Teilnehmerzahl z
 u bekommen, bitten sie um vorherige Anmeldung per E-Mail unter <a href="mai
 lto:Helitreff@MSV-Condor.de">Helitreff@MSV-Condor.de</a></p><p>Bitte gebt a
 uch an, and welchen Tagen ihr teilnehmt.</p><p>Bitte vergesst nicht, einen 
 gültigen Versicherungsnachweis mitzubringen, wenn ihr fliegen wollt.</p><p>
 Es wäre schön, wenn auch am Sonntag noch genügend Piloten vor Ort sind, um 
 den Zuschauern noch schöne Flüge bieten zu können.</p><p> </p><p>Ansprechpa
 rtner ist: Wolfgang Schmitt (Schriftführer) über obige Eventmailadresse.</p
 > <a href="https://mbg-lilienthal.de/termine/alles-ausser-fliegen/23453/hel
 itreffen-msv-condor-in-göttingen?tmpl=component">Dieser Event wurde importi
 ert von: https://mbg-lilienthal.de/termine/alles-ausser-fliegen/23453/helit
 reffen-msv-condor-in-göttingen?tmpl=component</a>CONTACT:Helitreff@MSV-Condor.de
X-EXTRAINFO:https://msv-condor.de/events/categories/condor-oeffentlich/
DTSTAMP:20260420T150107
DTSTART;TZID=Europe/Berlin;VALUE=DATE:20240601
DTEND;TZID=Europe/Berlin;VALUE=DATE:20240602
SEQUENCE:0
RRULE:FREQ=WEEKLY;UNTIL=20240602T000000Z;INTERVAL=1;BYDAY=SA,SU
TRANSP:OPAQUE
END:VEVENT
END:VCALENDAR