BEGIN:VCALENDAR
VERSION:2.0
PRODID:-//jEvents 2.0 for Joomla//EN
CALSCALE:GREGORIAN
METHOD:PUBLISH
BEGIN:VTIMEZONE
TZID:Europe/Berlin
BEGIN:STANDARD
DTSTART:20231029T020000
RDATE:20240331T030000
TZOFFSETFROM:+0200
TZOFFSETTO:+0100
TZNAME:Europe/Berlin CET
END:STANDARD
BEGIN:STANDARD
DTSTART:20241027T020000
RDATE:20250330T030000
TZOFFSETFROM:+0200
TZOFFSETTO:+0100
TZNAME:Europe/Berlin CET
END:STANDARD
BEGIN:STANDARD
DTSTART:20251026T020000
RDATE:20260329T030000
TZOFFSETFROM:+0200
TZOFFSETTO:+0100
TZNAME:Europe/Berlin CET
END:STANDARD
BEGIN:STANDARD
DTSTART:20261025T020000
RDATE:20270328T030000
TZOFFSETFROM:+0200
TZOFFSETTO:+0100
TZNAME:Europe/Berlin CET
END:STANDARD
BEGIN:STANDARD
DTSTART:20271031T020000
RDATE:20280326T030000
TZOFFSETFROM:+0200
TZOFFSETTO:+0100
TZNAME:Europe/Berlin CET
END:STANDARD
BEGIN:DAYLIGHT
DTSTART:20230803T000000
RDATE:20231029T020000
TZOFFSETFROM:+0100
TZOFFSETTO:+0200
TZNAME:Europe/Berlin CEST
END:DAYLIGHT
BEGIN:DAYLIGHT
DTSTART:20240331T030000
RDATE:20241027T020000
TZOFFSETFROM:+0100
TZOFFSETTO:+0200
TZNAME:Europe/Berlin CEST
END:DAYLIGHT
BEGIN:DAYLIGHT
DTSTART:20250330T030000
RDATE:20251026T020000
TZOFFSETFROM:+0100
TZOFFSETTO:+0200
TZNAME:Europe/Berlin CEST
END:DAYLIGHT
BEGIN:DAYLIGHT
DTSTART:20260329T030000
RDATE:20261025T020000
TZOFFSETFROM:+0100
TZOFFSETTO:+0200
TZNAME:Europe/Berlin CEST
END:DAYLIGHT
BEGIN:DAYLIGHT
DTSTART:20270328T030000
RDATE:20271031T020000
TZOFFSETFROM:+0100
TZOFFSETTO:+0200
TZNAME:Europe/Berlin CEST
END:DAYLIGHT
END:VTIMEZONE
BEGIN:VEVENT
UID:4b3f9cb12a5d1a478538bcbdfacce71d
CATEGORIES:Sondertermine
CREATED:20240307T203115
SUMMARY:Termine - Weserbeleuchtung Reinhardshagen / Veckerhagen
LOCATION:Reinhardshagen / Veckerhagen - Weserufer
URL;VALUE=URI:https://mbg-lilienthal.de/termine/alles-ausser-fliegen/23457/weserbeleuchtu
 ng-reinhardshagen-veckerhagen?tmpl=component
DESCRIPTION:<p>Modellflieger der MBG hoffen, dass sie teilnehmen können.</p> <a href="h
 ttps://mbg-lilienthal.de/termine/alles-ausser-fliegen/23457/weserbeleuchtun
 g-reinhardshagen-veckerhagen?tmpl=component">Dieser Event wurde importiert 
 von: https://mbg-lilienthal.de/termine/alles-ausser-fliegen/23457/weserbele
 uchtung-reinhardshagen-veckerhagen?tmpl=component</a>X-EXTRAINFO:https://reinhardshagen.de/
DTSTAMP:20260420T134411
DTSTART;TZID=Europe/Berlin;VALUE=DATE:20240803
DTEND;TZID=Europe/Berlin;VALUE=DATE:20240804
SEQUENCE:0
TRANSP:OPAQUE
END:VEVENT
END:VCALENDAR