BEGIN:VCALENDAR
VERSION:2.0
PRODID:-//jEvents 2.0 for Joomla//EN
CALSCALE:GREGORIAN
METHOD:PUBLISH
BEGIN:VTIMEZONE
TZID:Europe/Berlin
BEGIN:STANDARD
DTSTART:20231029T020000
RDATE:20240331T030000
TZOFFSETFROM:+0200
TZOFFSETTO:+0100
TZNAME:Europe/Berlin CET
END:STANDARD
BEGIN:STANDARD
DTSTART:20241027T020000
RDATE:20250330T030000
TZOFFSETFROM:+0200
TZOFFSETTO:+0100
TZNAME:Europe/Berlin CET
END:STANDARD
BEGIN:STANDARD
DTSTART:20251026T020000
RDATE:20260329T030000
TZOFFSETFROM:+0200
TZOFFSETTO:+0100
TZNAME:Europe/Berlin CET
END:STANDARD
BEGIN:STANDARD
DTSTART:20261025T020000
RDATE:20270328T030000
TZOFFSETFROM:+0200
TZOFFSETTO:+0100
TZNAME:Europe/Berlin CET
END:STANDARD
BEGIN:STANDARD
DTSTART:20271031T020000
RDATE:20280326T030000
TZOFFSETFROM:+0200
TZOFFSETTO:+0100
TZNAME:Europe/Berlin CET
END:STANDARD
BEGIN:DAYLIGHT
DTSTART:20230608T000000
RDATE:20231029T020000
TZOFFSETFROM:+0100
TZOFFSETTO:+0200
TZNAME:Europe/Berlin CEST
END:DAYLIGHT
BEGIN:DAYLIGHT
DTSTART:20240331T030000
RDATE:20241027T020000
TZOFFSETFROM:+0100
TZOFFSETTO:+0200
TZNAME:Europe/Berlin CEST
END:DAYLIGHT
BEGIN:DAYLIGHT
DTSTART:20250330T030000
RDATE:20251026T020000
TZOFFSETFROM:+0100
TZOFFSETTO:+0200
TZNAME:Europe/Berlin CEST
END:DAYLIGHT
BEGIN:DAYLIGHT
DTSTART:20260329T030000
RDATE:20261025T020000
TZOFFSETFROM:+0100
TZOFFSETTO:+0200
TZNAME:Europe/Berlin CEST
END:DAYLIGHT
BEGIN:DAYLIGHT
DTSTART:20270328T030000
RDATE:20271031T020000
TZOFFSETFROM:+0100
TZOFFSETTO:+0200
TZNAME:Europe/Berlin CEST
END:DAYLIGHT
END:VTIMEZONE
BEGIN:VEVENT
UID:e93fc74f60d3baa08ba79e831fc3d66e
CATEGORIES:Extern
CREATED:19700101T010000
SUMMARY:Termine - Modellflugtag EMC Duderstadt
LOCATION: Modellflugplatz Germershausen
URL;VALUE=URI:https://mbg-lilienthal.de/termine/alles-ausser-fliegen/23938/modellflugtag-
 emc-duderstadt?tmpl=component
DESCRIPTION:<p>Veranstaltung außerhalb der MBG</p><p>Hier noch ein Hinweis aus Dudersta
 dt für das Veranstaltungs-Wochenende<br />---------------------------------
 --------------------------------------------- <br />Liebe Piloten,</p><p>di
 e Vorbereitungen für unseren Flugtag laufen auf Hochtouren. Hier kommen noc
 h letzte Infos, was insbesondere die Anfahrt betrifft.<br />Bitte beachtet,
  dass die B27 ist zwischen Gieboldehausen und Ebergötzen gesperrt ist. Die 
 Zufahrt zu unserem Flugplatz ist aber von Gieboldehausen aus über Rollshaus
 en nach Germershausen problemlos möglich. Und aus Richtung Göttingen erfolg
 t die Zufahrt nach Ebergötzen über Seeburg, Bernshausen und Germershausen. 
 Gute Fahrt!</p><p>Die Campingwiese ist gemäht, die Dixis sind schon aufgest
 ellt, der Strom kommt morgen oder Freitag, die ersten Camper sind schon da.
 <br />Wir freuen uns auf euren Besuch. Bitte denkt an Verbands-/Versicherun
 gsnachweis, Kenntnis-/Schulungsnachweis sowie ggf. Motorpass.<br />Die Wett
 ervorhersage ist zumindest mal trocken. Bitte bringt viele Modelle und v.a.
  gute Laune mit.</p><p>Viele Grüße und gute Reise.<br />Andreas und Jochen<
 /p><p><a title="Der Flugplatz" href="https://www.emc-duderstadt.de/general-
 clean" target="_blank" rel="noopener">https://www.emc-duderstadt.de/general
 -clean</a> </p> <a href="https://mbg-lilienthal.de/termine/alles-ausser-fli
 egen/23938/modellflugtag-emc-duderstadt?tmpl=component">Dieser Event wurde 
 importiert von: https://mbg-lilienthal.de/termine/alles-ausser-fliegen/2393
 8/modellflugtag-emc-duderstadt?tmpl=component</a>X-EXTRAINFO:https://emc-duderstadt.de\nhttps://www.emc-duderstadt.de/general-clean
DTSTAMP:20260421T022737
DTSTART;TZID=Europe/Berlin;VALUE=DATE:20240608
DTEND;TZID=Europe/Berlin;VALUE=DATE:20240609
SEQUENCE:0
RRULE:FREQ=DAILY;COUNT=2;INTERVAL=1
TRANSP:OPAQUE
END:VEVENT
END:VCALENDAR