BEGIN:VCALENDAR
VERSION:2.0
PRODID:-//jEvents 2.0 for Joomla//EN
CALSCALE:GREGORIAN
METHOD:PUBLISH
BEGIN:VTIMEZONE
TZID:Europe/Berlin
BEGIN:STANDARD
DTSTART:20241027T020000
RDATE:20250330T030000
TZOFFSETFROM:+0200
TZOFFSETTO:+0100
TZNAME:Europe/Berlin CET
END:STANDARD
BEGIN:STANDARD
DTSTART:20251026T020000
RDATE:20260329T030000
TZOFFSETFROM:+0200
TZOFFSETTO:+0100
TZNAME:Europe/Berlin CET
END:STANDARD
BEGIN:STANDARD
DTSTART:20261025T020000
RDATE:20270328T030000
TZOFFSETFROM:+0200
TZOFFSETTO:+0100
TZNAME:Europe/Berlin CET
END:STANDARD
BEGIN:STANDARD
DTSTART:20271031T020000
RDATE:20280326T030000
TZOFFSETFROM:+0200
TZOFFSETTO:+0100
TZNAME:Europe/Berlin CET
END:STANDARD
BEGIN:DAYLIGHT
DTSTART:20240828T000000
RDATE:20241027T020000
TZOFFSETFROM:+0100
TZOFFSETTO:+0200
TZNAME:Europe/Berlin CEST
END:DAYLIGHT
BEGIN:DAYLIGHT
DTSTART:20250330T030000
RDATE:20251026T020000
TZOFFSETFROM:+0100
TZOFFSETTO:+0200
TZNAME:Europe/Berlin CEST
END:DAYLIGHT
BEGIN:DAYLIGHT
DTSTART:20260329T030000
RDATE:20261025T020000
TZOFFSETFROM:+0100
TZOFFSETTO:+0200
TZNAME:Europe/Berlin CEST
END:DAYLIGHT
BEGIN:DAYLIGHT
DTSTART:20270328T030000
RDATE:20271031T020000
TZOFFSETFROM:+0100
TZOFFSETTO:+0200
TZNAME:Europe/Berlin CEST
END:DAYLIGHT
END:VTIMEZONE
BEGIN:VEVENT
UID:228078d79948470297fef88fd9291bc7
CATEGORIES:Sondertermine
CREATED:20250307T192757
SUMMARY:Termine - Freundschaftsfliegen bei der MBG
LOCATION:Modellflugplatz\, Bruchweg
URL;VALUE=URI:https://mbg-lilienthal.de/termine/alles-ausser-fliegen/24000/freundschaftsf
 liegen-bei-der-mbg?tmpl=component
DESCRIPTION:<p>Treffen der Flieger befreundeter Vereine bei der MBG</p> <a href="https:
 //mbg-lilienthal.de/termine/alles-ausser-fliegen/24000/freundschaftsfliegen
 -bei-der-mbg?tmpl=component">Dieser Event wurde importiert von: https://mbg
 -lilienthal.de/termine/alles-ausser-fliegen/24000/freundschaftsfliegen-bei-
 der-mbg?tmpl=component</a>X-EXTRAINFO:https://mbg-lilienthal.de/
DTSTAMP:20260419T155007
DTSTART;TZID=Europe/Berlin;VALUE=DATE:20250829
DTEND;TZID=Europe/Berlin;VALUE=DATE:20250901
SEQUENCE:0
TRANSP:OPAQUE
END:VEVENT
END:VCALENDAR