BEGIN:VCALENDAR
VERSION:2.0
PRODID:-//jEvents 2.0 for Joomla//EN
CALSCALE:GREGORIAN
METHOD:PUBLISH
BEGIN:VTIMEZONE
TZID:Europe/Berlin
BEGIN:STANDARD
DTSTART:20241027T020000
RDATE:20250330T030000
TZOFFSETFROM:+0200
TZOFFSETTO:+0100
TZNAME:Europe/Berlin CET
END:STANDARD
BEGIN:STANDARD
DTSTART:20251026T020000
RDATE:20260329T030000
TZOFFSETFROM:+0200
TZOFFSETTO:+0100
TZNAME:Europe/Berlin CET
END:STANDARD
BEGIN:STANDARD
DTSTART:20261025T020000
RDATE:20270328T030000
TZOFFSETFROM:+0200
TZOFFSETTO:+0100
TZNAME:Europe/Berlin CET
END:STANDARD
BEGIN:STANDARD
DTSTART:20271031T020000
RDATE:20280326T030000
TZOFFSETFROM:+0200
TZOFFSETTO:+0100
TZNAME:Europe/Berlin CET
END:STANDARD
BEGIN:DAYLIGHT
DTSTART:20240430T110000
RDATE:20241027T020000
TZOFFSETFROM:+0100
TZOFFSETTO:+0200
TZNAME:Europe/Berlin CEST
END:DAYLIGHT
BEGIN:DAYLIGHT
DTSTART:20250330T030000
RDATE:20251026T020000
TZOFFSETFROM:+0100
TZOFFSETTO:+0200
TZNAME:Europe/Berlin CEST
END:DAYLIGHT
BEGIN:DAYLIGHT
DTSTART:20260329T030000
RDATE:20261025T020000
TZOFFSETFROM:+0100
TZOFFSETTO:+0200
TZNAME:Europe/Berlin CEST
END:DAYLIGHT
BEGIN:DAYLIGHT
DTSTART:20270328T030000
RDATE:20271031T020000
TZOFFSETFROM:+0100
TZOFFSETTO:+0200
TZNAME:Europe/Berlin CEST
END:DAYLIGHT
END:VTIMEZONE
BEGIN:VEVENT
UID:7f10289df388e911a1de6cbf787b1467
CATEGORIES:Extern
CREATED:20250406T195621
SUMMARY:Termine - Anfliegen MFV Colibri Fritzlar e.V.
LOCATION:Modellflugplatz\, Köllnische Kanzel  GPS: 51.181665\, 9.239551
URL;VALUE=URI:https://mbg-lilienthal.de/termine/alles-ausser-fliegen/24098/anfliegen-mfv-
 colibri-fritzlar-e-v?tmpl=component
DESCRIPTION:<p>Veranstaltung außerhalb der MBG für mit Colibri befreundeten Vereinen au
 f der Köllnischen Kanzel, oberhalb des Züschener Steinkammergrabs. (oder üb
 er die Minigolfanlage)</p><p>(Google Navigation: <a href="https://maps.app.
 goo.gl/Sz6yL6K2RcCN1J6cA)">https://maps.app.goo.gl/Sz6yL6K2RcCN1J6cA)</a></
 p> <a href="https://mbg-lilienthal.de/termine/alles-ausser-fliegen/24098/an
 fliegen-mfv-colibri-fritzlar-e-v?tmpl=component">Dieser Event wurde importi
 ert von: https://mbg-lilienthal.de/termine/alles-ausser-fliegen/24098/anfli
 egen-mfv-colibri-fritzlar-e-v?tmpl=component</a>CONTACT:Ralph Meuth, RegularLabs.EmailProtector.unCloak("ep_950d5cef");
X-EXTRAINFO:https://www.hna.de/lokales/fritzlar-homberg/modellflieger-laden-anfliegen-2
 880779.html
DTSTAMP:20260419T170042
DTSTART;TZID=Europe/Berlin:20250501T110000
DTEND;TZID=Europe/Berlin:20250501T183000
SEQUENCE:0
TRANSP:OPAQUE
END:VEVENT
END:VCALENDAR