BEGIN:VCALENDAR
VERSION:2.0
PRODID:-//jEvents 2.0 for Joomla//EN
CALSCALE:GREGORIAN
METHOD:PUBLISH
BEGIN:VTIMEZONE
TZID:Europe/Berlin
BEGIN:STANDARD
DTSTART:20231029T020000
RDATE:20240331T030000
TZOFFSETFROM:+0200
TZOFFSETTO:+0100
TZNAME:Europe/Berlin CET
END:STANDARD
BEGIN:STANDARD
DTSTART:20241027T020000
RDATE:20250330T030000
TZOFFSETFROM:+0200
TZOFFSETTO:+0100
TZNAME:Europe/Berlin CET
END:STANDARD
BEGIN:STANDARD
DTSTART:20251026T020000
RDATE:20260329T030000
TZOFFSETFROM:+0200
TZOFFSETTO:+0100
TZNAME:Europe/Berlin CET
END:STANDARD
BEGIN:STANDARD
DTSTART:20261025T020000
RDATE:20270328T030000
TZOFFSETFROM:+0200
TZOFFSETTO:+0100
TZNAME:Europe/Berlin CET
END:STANDARD
BEGIN:STANDARD
DTSTART:20271031T020000
RDATE:20280326T030000
TZOFFSETFROM:+0200
TZOFFSETTO:+0100
TZNAME:Europe/Berlin CET
END:STANDARD
BEGIN:DAYLIGHT
DTSTART:20230831T000000
RDATE:20231029T020000
TZOFFSETFROM:+0100
TZOFFSETTO:+0200
TZNAME:Europe/Berlin CEST
END:DAYLIGHT
BEGIN:DAYLIGHT
DTSTART:20240331T030000
RDATE:20241027T020000
TZOFFSETFROM:+0100
TZOFFSETTO:+0200
TZNAME:Europe/Berlin CEST
END:DAYLIGHT
BEGIN:DAYLIGHT
DTSTART:20250330T030000
RDATE:20251026T020000
TZOFFSETFROM:+0100
TZOFFSETTO:+0200
TZNAME:Europe/Berlin CEST
END:DAYLIGHT
BEGIN:DAYLIGHT
DTSTART:20260329T030000
RDATE:20261025T020000
TZOFFSETFROM:+0100
TZOFFSETTO:+0200
TZNAME:Europe/Berlin CEST
END:DAYLIGHT
BEGIN:DAYLIGHT
DTSTART:20270328T030000
RDATE:20271031T020000
TZOFFSETFROM:+0100
TZOFFSETTO:+0200
TZNAME:Europe/Berlin CEST
END:DAYLIGHT
END:VTIMEZONE
BEGIN:VEVENT
UID:b307cc0fc239b09a88c644934abd6a50
CATEGORIES:Sondertermine
CREATED:20240218T162939
SUMMARY:Termine - 60 Jahre MBG und Freundschaftsfliegen
LOCATION:Modellflugplatz\, Bruchweg
URL;VALUE=URI:https://mbg-lilienthal.de/termine/alles-ausser-fliegen/23328/60-jahre-mbg-u
 nd-freundschaftsfliegen?tmpl=component
DESCRIPTION:Zum 60-jährigen Vereinsjubiläum begrüßen und treffen wir Flieger von befreu
 ndeten Vereinen bei der MBG.\n Dieser Event wurde importiert von: https://m
 bg-lilienthal.de/termine/alles-ausser-fliegen/23328/60-jahre-mbg-und-freund
 schaftsfliegen?tmpl=component (https://mbg-lilienthal.de/termine/alles-auss
 er-fliegen/23328/60-jahre-mbg-und-freundschaftsfliegen?tmpl=component)
X-ALT-DESC;FMTTYPE=text/html:<p>Zum 60-jährigen Vereinsjubiläum begrüßen und treffen wir Flieger von bef
 reundeten Vereinen bei der MBG.</p> <a href="https://mbg-lilienthal.de/term
 ine/alles-ausser-fliegen/23328/60-jahre-mbg-und-freundschaftsfliegen?tmpl=c
 omponent">Dieser Event wurde importiert von: https://mbg-lilienthal.de/term
 ine/alles-ausser-fliegen/23328/60-jahre-mbg-und-freundschaftsfliegen?tmpl=c
 omponent</a>CONTACT:Vorstand https://mbg-lilienthal.de/index.php/kontakt/34-kat_kont_vorstand
X-EXTRAINFO:https://mbg-lilienthal.de/
DTSTAMP:20260420T191302
DTSTART;TZID=Europe/Berlin;VALUE=DATE:20240831
DTEND;TZID=Europe/Berlin;VALUE=DATE:20240901
SEQUENCE:0
TRANSP:OPAQUE
END:VEVENT
END:VCALENDAR