BEGIN:VCALENDAR
VERSION:2.0
PRODID:-//jEvents 2.0 for Joomla//EN
CALSCALE:GREGORIAN
METHOD:PUBLISH
BEGIN:VTIMEZONE
TZID:Europe/Berlin
BEGIN:STANDARD
DTSTART:20231029T020000
RDATE:20240331T030000
TZOFFSETFROM:+0200
TZOFFSETTO:+0100
TZNAME:Europe/Berlin CET
END:STANDARD
BEGIN:STANDARD
DTSTART:20241027T020000
RDATE:20250330T030000
TZOFFSETFROM:+0200
TZOFFSETTO:+0100
TZNAME:Europe/Berlin CET
END:STANDARD
BEGIN:STANDARD
DTSTART:20251026T020000
RDATE:20260329T030000
TZOFFSETFROM:+0200
TZOFFSETTO:+0100
TZNAME:Europe/Berlin CET
END:STANDARD
BEGIN:STANDARD
DTSTART:20261025T020000
RDATE:20270328T030000
TZOFFSETFROM:+0200
TZOFFSETTO:+0100
TZNAME:Europe/Berlin CET
END:STANDARD
BEGIN:STANDARD
DTSTART:20271031T020000
RDATE:20280326T030000
TZOFFSETFROM:+0200
TZOFFSETTO:+0100
TZNAME:Europe/Berlin CET
END:STANDARD
BEGIN:DAYLIGHT
DTSTART:20230602T000000
RDATE:20231029T020000
TZOFFSETFROM:+0100
TZOFFSETTO:+0200
TZNAME:Europe/Berlin CEST
END:DAYLIGHT
BEGIN:DAYLIGHT
DTSTART:20240331T030000
RDATE:20241027T020000
TZOFFSETFROM:+0100
TZOFFSETTO:+0200
TZNAME:Europe/Berlin CEST
END:DAYLIGHT
BEGIN:DAYLIGHT
DTSTART:20250330T030000
RDATE:20251026T020000
TZOFFSETFROM:+0100
TZOFFSETTO:+0200
TZNAME:Europe/Berlin CEST
END:DAYLIGHT
BEGIN:DAYLIGHT
DTSTART:20260329T030000
RDATE:20261025T020000
TZOFFSETFROM:+0100
TZOFFSETTO:+0200
TZNAME:Europe/Berlin CEST
END:DAYLIGHT
BEGIN:DAYLIGHT
DTSTART:20270328T030000
RDATE:20271031T020000
TZOFFSETFROM:+0100
TZOFFSETTO:+0200
TZNAME:Europe/Berlin CEST
END:DAYLIGHT
END:VTIMEZONE
BEGIN:VEVENT
UID:0d7528253e7b9112a8dbe321211af754
CATEGORIES:Extern
CREATED:20240307T203115
SUMMARY:Termine - Helitreffen MSV Condor in Göttingen
LOCATION:Modellflugplatz\, Elliehausen
URL;VALUE=URI:https://mbg-lilienthal.de/termine/alles-ausser-fliegen/23475/helitreffen-ms
 v-condor-in-göttingen?tmpl=component
DESCRIPTION:11. Göttinger Heli Treffen Veranstaltung außerhalb der MBG\nDer MSV Condor 
 lädt wieder alle Heli Piloten aus nah und fern zu 2 Tagen stressfreiem Flie
 gen auf seinen Modellflugplatz oberhalb von Göttingen-Elliehausen ein. Jede
 r, der einen Modellhubschrauber fliegt, ist willkommen, vom Anfänger bis zu
 m Profi, vom 3D Extremkunstflug bis zum perfekt nachgebauten Scale Hubschra
 uber. Zuschauer, Verwandte und Bekannte sind natürlich auch gern gesehen. D
 er Eintritt frei.\nCamping ist möglich und erwünscht. Sie werden dafür den 
 südlichen Teil unseres Platzes sperren, um genug Platz zu haben.  Strom, Wa
 sser und Dixies sind vorhanden. Auch für das leibliche Wohl wird gesorgt! D
 ie Anreise ist ab Freitag möglich.\nUm einen Überblick über die Teilnehmerz
 ahl zu bekommen, bitten sie um vorherige Anmeldung per E-Mail unter Regular
 Labs.EmailProtector.unCloak("ep_04ad0cd8"); (javascript:/* Diese E-Mail Adr
 esse ist vor Spambots geschützt.*/)RegularLabs.EmailProtector.unCloak("ep_a
 cbffb2b", true);\nBitte gebt auch an, and welchen Tagen ihr teilnehmt.\nBit
 te vergesst nicht, einen gültigen Versicherungsnachweis mitzubringen, wenn 
 ihr fliegen wollt.\nEs wäre schön, wenn auch am Sonntag noch genügend Pilot
 en vor Ort sind, um den Zuschauern noch schöne Flüge bieten zu können.\n \n
 Ansprechpartner ist: Wolfgang Schmitt (Schriftführer) über obige Eventmaila
 dresse.\n Dieser Event wurde importiert von: https://mbg-lilienthal.de/term
 ine/alles-ausser-fliegen/23475/helitreffen-msv-condor-in-göttingen?tmpl=com
 ponent (https://mbg-lilienthal.de/termine/alles-ausser-fliegen/23475/helitr
 effen-msv-condor-in-göttingen?tmpl=component)
X-ALT-DESC;FMTTYPE=text/html:<h1><strong>11. Göttinger Heli Treffen </strong></h1><p><em><strong>Veranst
 altung außerhalb der MBG</strong></em></p><p>Der MSV Condor lädt wieder all
 e Heli Piloten aus nah und fern zu 2 Tagen stressfreiem Fliegen auf seinen 
 Modellflugplatz oberhalb von Göttingen-Elliehausen ein. Jeder, der einen Mo
 dellhubschrauber fliegt, ist willkommen, vom Anfänger bis zum Profi, vom 3D
  Extremkunstflug bis zum perfekt nachgebauten Scale Hubschrauber. Zuschauer
 , Verwandte und Bekannte sind natürlich auch gern gesehen. Der Eintritt fre
 i.</p><p>Camping ist möglich und erwünscht. Sie werden dafür den südlichen 
 Teil unseres Platzes sperren, um genug Platz zu haben.  Strom, Wasser und D
 ixies sind vorhanden. Auch für das leibliche Wohl wird gesorgt! Die Anreise
  ist ab Freitag möglich.</p><p>Um einen Überblick über die Teilnehmerzahl z
 u bekommen, bitten sie um vorherige Anmeldung per E-Mail unter <!-- Diese E
 -Mail Adresse ist vor Spambots geschützt. --><a href="https://mbg-lilientha
 l.de/javascript:/* Diese E-Mail Adresse ist vor Spambots gesch&uuml;tzt.*/"
 ><span class="cloaked_email ep_04ad0cd8"><span data-ep-b="&#46;&#100;&#101;
 " data-ep-a="&#72;&#101;&#108;&#105;"><span data-ep-a="&#116;&#114;ef" data
 -ep-b="&#110;&#100;o&#114;"><span data-ep-b="&#86;&#45;&#67;o" data-ep-a="f
 &#64;&#77;&#83;"></span></span></span></span><script>RegularLabs.EmailProte
 ctor.unCloak("ep_04ad0cd8");</script><span class="cloaked_email ep_acbffb2b
 " style="display:none;"><span data-ep-b=".de" data-ep-a="H&#101;&#108;i"><s
 pan data-ep-a="t&#114;ef" data-ep-b="ndo&#114;"><span data-ep-b="&#86;&#45;
 &#67;&#111;" data-ep-a="&#102;&#64;M&#83;"></span></span></span></span></a>
 <script>RegularLabs.EmailProtector.unCloak("ep_acbffb2b", true);</script></
 p><p>Bitte gebt auch an, and welchen Tagen ihr teilnehmt.</p><p>Bitte verge
 sst nicht, einen gültigen Versicherungsnachweis mitzubringen, wenn ihr flie
 gen wollt.</p><p>Es wäre schön, wenn auch am Sonntag noch genügend Piloten 
 vor Ort sind, um den Zuschauern noch schöne Flüge bieten zu können.</p><p> 
 </p><p>Ansprechpartner ist: Wolfgang Schmitt (Schriftführer) über obige Eve
 ntmailadresse.</p> <a href="https://mbg-lilienthal.de/termine/alles-ausser-
 fliegen/23475/helitreffen-msv-condor-in-göttingen?tmpl=component">Dieser Ev
 ent wurde importiert von: https://mbg-lilienthal.de/termine/alles-ausser-fl
 iegen/23475/helitreffen-msv-condor-in-göttingen?tmpl=component</a>CONTACT:RegularLabs.EmailProtector.unCloak("ep_b7e755d2");
X-EXTRAINFO:https://msv-condor.de/events/categories/condor-oeffentlich/
DTSTAMP:20260420T145649
DTSTART;TZID=Europe/Berlin;VALUE=DATE:20240602
DTEND;TZID=Europe/Berlin;VALUE=DATE:20240603
SEQUENCE:0
TRANSP:OPAQUE
END:VEVENT
END:VCALENDAR