BEGIN:VCALENDAR
VERSION:2.0
PRODID:-//jEvents 2.0 for Joomla//EN
CALSCALE:GREGORIAN
METHOD:PUBLISH
BEGIN:VTIMEZONE
TZID:Europe/Berlin
BEGIN:STANDARD
DTSTART:20231029T020000
RDATE:20240331T030000
TZOFFSETFROM:+0200
TZOFFSETTO:+0100
TZNAME:Europe/Berlin CET
END:STANDARD
BEGIN:STANDARD
DTSTART:20241027T020000
RDATE:20250330T030000
TZOFFSETFROM:+0200
TZOFFSETTO:+0100
TZNAME:Europe/Berlin CET
END:STANDARD
BEGIN:STANDARD
DTSTART:20251026T020000
RDATE:20260329T030000
TZOFFSETFROM:+0200
TZOFFSETTO:+0100
TZNAME:Europe/Berlin CET
END:STANDARD
BEGIN:STANDARD
DTSTART:20261025T020000
RDATE:20270328T030000
TZOFFSETFROM:+0200
TZOFFSETTO:+0100
TZNAME:Europe/Berlin CET
END:STANDARD
BEGIN:STANDARD
DTSTART:20271031T020000
RDATE:20280326T030000
TZOFFSETFROM:+0200
TZOFFSETTO:+0100
TZNAME:Europe/Berlin CET
END:STANDARD
BEGIN:DAYLIGHT
DTSTART:20230609T000000
RDATE:20231029T020000
TZOFFSETFROM:+0100
TZOFFSETTO:+0200
TZNAME:Europe/Berlin CEST
END:DAYLIGHT
BEGIN:DAYLIGHT
DTSTART:20240331T030000
RDATE:20241027T020000
TZOFFSETFROM:+0100
TZOFFSETTO:+0200
TZNAME:Europe/Berlin CEST
END:DAYLIGHT
BEGIN:DAYLIGHT
DTSTART:20250330T030000
RDATE:20251026T020000
TZOFFSETFROM:+0100
TZOFFSETTO:+0200
TZNAME:Europe/Berlin CEST
END:DAYLIGHT
BEGIN:DAYLIGHT
DTSTART:20260329T030000
RDATE:20261025T020000
TZOFFSETFROM:+0100
TZOFFSETTO:+0200
TZNAME:Europe/Berlin CEST
END:DAYLIGHT
BEGIN:DAYLIGHT
DTSTART:20270328T030000
RDATE:20271031T020000
TZOFFSETFROM:+0100
TZOFFSETTO:+0200
TZNAME:Europe/Berlin CEST
END:DAYLIGHT
END:VTIMEZONE
BEGIN:VEVENT
UID:e93fc74f60d3baa08ba79e831fc3d66e
CATEGORIES:Extern
CREATED:20240607T083313
SUMMARY:Termine - Modellflugtag EMC Duderstadt
LOCATION: Modellflugplatz Germershausen
URL;VALUE=URI:https://mbg-lilienthal.de/termine/alles-ausser-fliegen/23939/modellflugtag-
 emc-duderstadt?tmpl=component
DESCRIPTION:Veranstaltung außerhalb der MBG\nHier noch ein Hinweis aus Duderstadt für d
 as Veranstaltungs-Wochenende\n---------------------------------------------
 --------------------------------- \nLiebe Piloten,\ndie Vorbereitungen für 
 unseren Flugtag laufen auf Hochtouren. Hier kommen noch letzte Infos, was i
 nsbesondere die Anfahrt betrifft.\nBitte beachtet, dass die B27 ist zwische
 n Gieboldehausen und Ebergötzen gesperrt ist. Die Zufahrt zu unserem Flugpl
 atz ist aber von Gieboldehausen aus über Rollshausen nach Germershausen pro
 blemlos möglich. Und aus Richtung Göttingen erfolgt die Zufahrt nach Ebergö
 tzen über Seeburg, Bernshausen und Germershausen. Gute Fahrt!\nDie Campingw
 iese ist gemäht, die Dixis sind schon aufgestellt, der Strom kommt morgen o
 der Freitag, die ersten Camper sind schon da.\nWir freuen uns auf euren Bes
 uch. Bitte denkt an Verbands-/Versicherungsnachweis, Kenntnis-/Schulungsnac
 hweis sowie ggf. Motorpass.\nDie Wettervorhersage ist zumindest mal trocken
 . Bitte bringt viele Modelle und v.a. gute Laune mit.\nViele Grüße und gute
  Reise.\nAndreas und Jochen\nhttps://www.emc-duderstadt.de/general-clean (h
 ttps://www.emc-duderstadt.de/general-clean) \n Dieser Event wurde importier
 t von: https://mbg-lilienthal.de/termine/alles-ausser-fliegen/23939/modellf
 lugtag-emc-duderstadt?tmpl=component (https://mbg-lilienthal.de/termine/all
 es-ausser-fliegen/23939/modellflugtag-emc-duderstadt?tmpl=component)
X-ALT-DESC;FMTTYPE=text/html:<p>Veranstaltung außerhalb der MBG</p><p>Hier noch ein Hinweis aus Dudersta
 dt für das Veranstaltungs-Wochenende<br />---------------------------------
 --------------------------------------------- <br />Liebe Piloten,</p><p>di
 e Vorbereitungen für unseren Flugtag laufen auf Hochtouren. Hier kommen noc
 h letzte Infos, was insbesondere die Anfahrt betrifft.<br />Bitte beachtet,
  dass die B27 ist zwischen Gieboldehausen und Ebergötzen gesperrt ist. Die 
 Zufahrt zu unserem Flugplatz ist aber von Gieboldehausen aus über Rollshaus
 en nach Germershausen problemlos möglich. Und aus Richtung Göttingen erfolg
 t die Zufahrt nach Ebergötzen über Seeburg, Bernshausen und Germershausen. 
 Gute Fahrt!</p><p>Die Campingwiese ist gemäht, die Dixis sind schon aufgest
 ellt, der Strom kommt morgen oder Freitag, die ersten Camper sind schon da.
 <br />Wir freuen uns auf euren Besuch. Bitte denkt an Verbands-/Versicherun
 gsnachweis, Kenntnis-/Schulungsnachweis sowie ggf. Motorpass.<br />Die Wett
 ervorhersage ist zumindest mal trocken. Bitte bringt viele Modelle und v.a.
  gute Laune mit.</p><p>Viele Grüße und gute Reise.<br />Andreas und Jochen<
 /p><p><a title="Der Flugplatz" href="https://www.emc-duderstadt.de/general-
 clean" target="_blank" rel="noopener">https://www.emc-duderstadt.de/general
 -clean</a> </p> <a href="https://mbg-lilienthal.de/termine/alles-ausser-fli
 egen/23939/modellflugtag-emc-duderstadt?tmpl=component">Dieser Event wurde 
 importiert von: https://mbg-lilienthal.de/termine/alles-ausser-fliegen/2393
 9/modellflugtag-emc-duderstadt?tmpl=component</a>X-EXTRAINFO:https://emc-duderstadt.de\nhttps://www.emc-duderstadt.de/general-clean
DTSTAMP:20260420T191421
DTSTART;TZID=Europe/Berlin;VALUE=DATE:20240609
DTEND;TZID=Europe/Berlin;VALUE=DATE:20240610
SEQUENCE:0
TRANSP:OPAQUE
END:VEVENT
END:VCALENDAR