BEGIN:VCALENDAR
VERSION:2.0
PRODID:-//jEvents 2.0 for Joomla//EN
CALSCALE:GREGORIAN
METHOD:PUBLISH
BEGIN:VTIMEZONE
TZID:Europe/Berlin
BEGIN:STANDARD
DTSTART:20240321T000000
RDATE:20240331T030000
TZOFFSETFROM:+0200
TZOFFSETTO:+0100
TZNAME:Europe/Berlin CET
END:STANDARD
BEGIN:STANDARD
DTSTART:20241027T020000
RDATE:20250330T030000
TZOFFSETFROM:+0200
TZOFFSETTO:+0100
TZNAME:Europe/Berlin CET
END:STANDARD
BEGIN:STANDARD
DTSTART:20251026T020000
RDATE:20260329T030000
TZOFFSETFROM:+0200
TZOFFSETTO:+0100
TZNAME:Europe/Berlin CET
END:STANDARD
BEGIN:STANDARD
DTSTART:20261025T020000
RDATE:20270328T030000
TZOFFSETFROM:+0200
TZOFFSETTO:+0100
TZNAME:Europe/Berlin CET
END:STANDARD
BEGIN:STANDARD
DTSTART:20271031T020000
RDATE:20280326T030000
TZOFFSETFROM:+0200
TZOFFSETTO:+0100
TZNAME:Europe/Berlin CET
END:STANDARD
BEGIN:DAYLIGHT
DTSTART:20240331T030000
RDATE:20241027T020000
TZOFFSETFROM:+0100
TZOFFSETTO:+0200
TZNAME:Europe/Berlin CEST
END:DAYLIGHT
BEGIN:DAYLIGHT
DTSTART:20250330T030000
RDATE:20251026T020000
TZOFFSETFROM:+0100
TZOFFSETTO:+0200
TZNAME:Europe/Berlin CEST
END:DAYLIGHT
BEGIN:DAYLIGHT
DTSTART:20260329T030000
RDATE:20261025T020000
TZOFFSETFROM:+0100
TZOFFSETTO:+0200
TZNAME:Europe/Berlin CEST
END:DAYLIGHT
BEGIN:DAYLIGHT
DTSTART:20270328T030000
RDATE:20271031T020000
TZOFFSETFROM:+0100
TZOFFSETTO:+0200
TZNAME:Europe/Berlin CEST
END:DAYLIGHT
END:VTIMEZONE
BEGIN:VEVENT
UID:919bf45e5bd4c2758d343902735865eb
CATEGORIES:Extern
CREATED:20250307T191149
SUMMARY:Termine - Jahreshauptversammlung DMFV
LOCATION:Münster
URL;VALUE=URI:https://mbg-lilienthal.de/termine/alles-ausser-fliegen/23996/jahreshauptver
 sammlung-dmfv?tmpl=component
DESCRIPTION:<p>Veranstaltung außerhalb der MBG (Münster)</p> <a href="https://mbg-lilie
 nthal.de/termine/alles-ausser-fliegen/23996/jahreshauptversammlung-dmfv?tmp
 l=component">Dieser Event wurde importiert von: https://mbg-lilienthal.de/t
 ermine/alles-ausser-fliegen/23996/jahreshauptversammlung-dmfv?tmpl=componen
 t</a>X-EXTRAINFO:https://www.dmfv.aero/jhv-2025/
DTSTAMP:20260419T154424
DTSTART;TZID=Europe/Berlin;VALUE=DATE:20250322
DTEND;TZID=Europe/Berlin;VALUE=DATE:20250323
SEQUENCE:0
TRANSP:OPAQUE
END:VEVENT
END:VCALENDAR