BEGIN:VCALENDAR
VERSION:2.0
PRODID:-//jEvents 2.0 for Joomla//EN
CALSCALE:GREGORIAN
METHOD:PUBLISH
BEGIN:VTIMEZONE
TZID:Europe/Berlin
BEGIN:STANDARD
DTSTART:20241027T020000
RDATE:20250330T030000
TZOFFSETFROM:+0200
TZOFFSETTO:+0100
TZNAME:Europe/Berlin CET
END:STANDARD
BEGIN:STANDARD
DTSTART:20251026T020000
RDATE:20260329T030000
TZOFFSETFROM:+0200
TZOFFSETTO:+0100
TZNAME:Europe/Berlin CET
END:STANDARD
BEGIN:STANDARD
DTSTART:20261025T020000
RDATE:20270328T030000
TZOFFSETFROM:+0200
TZOFFSETTO:+0100
TZNAME:Europe/Berlin CET
END:STANDARD
BEGIN:STANDARD
DTSTART:20271031T020000
RDATE:20280326T030000
TZOFFSETFROM:+0200
TZOFFSETTO:+0100
TZNAME:Europe/Berlin CET
END:STANDARD
BEGIN:DAYLIGHT
DTSTART:20240822T000000
RDATE:20241027T020000
TZOFFSETFROM:+0100
TZOFFSETTO:+0200
TZNAME:Europe/Berlin CEST
END:DAYLIGHT
BEGIN:DAYLIGHT
DTSTART:20250330T030000
RDATE:20251026T020000
TZOFFSETFROM:+0100
TZOFFSETTO:+0200
TZNAME:Europe/Berlin CEST
END:DAYLIGHT
BEGIN:DAYLIGHT
DTSTART:20260329T030000
RDATE:20261025T020000
TZOFFSETFROM:+0100
TZOFFSETTO:+0200
TZNAME:Europe/Berlin CEST
END:DAYLIGHT
BEGIN:DAYLIGHT
DTSTART:20270328T030000
RDATE:20271031T020000
TZOFFSETFROM:+0100
TZOFFSETTO:+0200
TZNAME:Europe/Berlin CEST
END:DAYLIGHT
END:VTIMEZONE
BEGIN:VEVENT
UID:caa9238e38901890d6511b44f705dc95
CATEGORIES:Extern
CREATED:20250307T194155
SUMMARY:Termine - Flugtag SMV Nordhausen
LOCATION:Modellflugplatz\, Hain
URL;VALUE=URI:https://mbg-lilienthal.de/termine/alles-ausser-fliegen/24006/flugtag-smv-no
 rdhausen?tmpl=component
DESCRIPTION:<p>Veranstaltung außerhalb der MBG</p> <a href="https://mbg-lilienthal.de/t
 ermine/alles-ausser-fliegen/24006/flugtag-smv-nordhausen?tmpl=component">Di
 eser Event wurde importiert von: https://mbg-lilienthal.de/termine/alles-au
 sser-fliegen/24006/flugtag-smv-nordhausen?tmpl=component</a>X-EXTRAINFO:https://modellflug-nordhausen.de/termine/
DTSTAMP:20260420T005954
DTSTART;TZID=Europe/Berlin;VALUE=DATE:20250823
DTEND;TZID=Europe/Berlin;VALUE=DATE:20250825
SEQUENCE:0
TRANSP:OPAQUE
END:VEVENT
END:VCALENDAR