BEGIN:VCALENDAR
VERSION:2.0
PRODID:-//jEvents 2.0 for Joomla//EN
CALSCALE:GREGORIAN
METHOD:PUBLISH
BEGIN:VTIMEZONE
TZID:Europe/Berlin
END:VTIMEZONE
BEGIN:VEVENT
UID:54fc9b851275691c62b16f7e714f4dd9
CATEGORIES:Versammlung
CREATED:20240605T201619
SUMMARY:Termine - Mitgliederversammlung
LOCATION:34359 Reinhardshagen/Vaacke\, Mündener Str. 59\, Gasthaus Ude "Zum Weißen R
 oß"
URL;VALUE=URI:https://mbg-lilienthal.de/termine/alles-ausser-fliegen/24146/mitgliedervers
 ammlung?tmpl=component
DESCRIPTION:Liebe Mitglieder,auf der Jahreshauptversammlung vom 02.03.2018 beschlossen,
  möchten wir am ersten Freitag in allen geraden Monaten eine Mitgliedervers
 ammlung abhalten. Wir laden Euch herzlich dazu ein.\n \nWir freuen uns auf 
 eine konstruktive Versammlung.\nDer Vorstand\n Dieser Event wurde importier
 t von: https://mbg-lilienthal.de/termine/alles-ausser-fliegen/24146/mitglie
 derversammlung?tmpl=component
X-ALT-DESC;FMTTYPE=text/html:<h4>Liebe Mitglieder,</h4><p>auf der Jahreshauptversammlung vom 02.03.2018 
 beschlossen, möchten wir am ersten Freitag in allen geraden Monaten eine Mi
 tgliederversammlung abhalten. Wir laden Euch herzlich dazu ein.</p><p> </p>
 <p>Wir freuen uns auf eine konstruktive Versammlung.</p><p><span style="fon
 t-size: 10pt;"><em>Der Vorstand</em></span></p> <a href="https://mbg-lilien
 thal.de/termine/alles-ausser-fliegen/24146/mitgliederversammlung?tmpl=compo
 nent">Dieser Event wurde importiert von: https://mbg-lilienthal.de/termine/
 alles-ausser-fliegen/24146/mitgliederversammlung?tmpl=component</a>CONTACT:/kontakt/34-kat_kont_vorstand
DTSTAMP:20260421T213103
DTSTART;TZID=Europe/Berlin:20290202T190000
SEQUENCE:0
TRANSP:OPAQUE
END:VEVENT
END:VCALENDAR