BEGIN:VCALENDAR
VERSION:2.0
PRODID:-//jEvents 2.0 for Joomla//EN
CALSCALE:GREGORIAN
METHOD:PUBLISH
BEGIN:VTIMEZONE
TZID:Europe/Berlin
BEGIN:STANDARD
DTSTART:20230210T140000
RDATE:20230326T030000
TZOFFSETFROM:+0200
TZOFFSETTO:+0100
TZNAME:Europe/Berlin CET
END:STANDARD
BEGIN:STANDARD
DTSTART:20231029T020000
RDATE:20240331T030000
TZOFFSETFROM:+0200
TZOFFSETTO:+0100
TZNAME:Europe/Berlin CET
END:STANDARD
BEGIN:STANDARD
DTSTART:20241027T020000
RDATE:20250330T030000
TZOFFSETFROM:+0200
TZOFFSETTO:+0100
TZNAME:Europe/Berlin CET
END:STANDARD
BEGIN:STANDARD
DTSTART:20251026T020000
RDATE:20260329T030000
TZOFFSETFROM:+0200
TZOFFSETTO:+0100
TZNAME:Europe/Berlin CET
END:STANDARD
BEGIN:STANDARD
DTSTART:20261025T020000
RDATE:20270328T030000
TZOFFSETFROM:+0200
TZOFFSETTO:+0100
TZNAME:Europe/Berlin CET
END:STANDARD
BEGIN:STANDARD
DTSTART:20271031T020000
RDATE:20280326T030000
TZOFFSETFROM:+0200
TZOFFSETTO:+0100
TZNAME:Europe/Berlin CET
END:STANDARD
BEGIN:DAYLIGHT
DTSTART:20230326T030000
RDATE:20231029T020000
TZOFFSETFROM:+0100
TZOFFSETTO:+0200
TZNAME:Europe/Berlin CEST
END:DAYLIGHT
BEGIN:DAYLIGHT
DTSTART:20240331T030000
RDATE:20241027T020000
TZOFFSETFROM:+0100
TZOFFSETTO:+0200
TZNAME:Europe/Berlin CEST
END:DAYLIGHT
BEGIN:DAYLIGHT
DTSTART:20250330T030000
RDATE:20251026T020000
TZOFFSETFROM:+0100
TZOFFSETTO:+0200
TZNAME:Europe/Berlin CEST
END:DAYLIGHT
BEGIN:DAYLIGHT
DTSTART:20260329T030000
RDATE:20261025T020000
TZOFFSETFROM:+0100
TZOFFSETTO:+0200
TZNAME:Europe/Berlin CEST
END:DAYLIGHT
BEGIN:DAYLIGHT
DTSTART:20270328T030000
RDATE:20271031T020000
TZOFFSETFROM:+0100
TZOFFSETTO:+0200
TZNAME:Europe/Berlin CEST
END:DAYLIGHT
END:VTIMEZONE
BEGIN:VEVENT
UID:4053b90cdf0da3dfe743d1d2d14b86ec
CATEGORIES:Indoor Fliegen
CREATED:19700101T010000
SUMMARY:Termine - Hallenfliegen
LOCATION:34359 Reinhardshagen/Veckerhagen
URL;VALUE=URI:https://mbg-lilienthal.de/termine/23299/hallenfliegen?tmpl=component
DESCRIPTION:<p>In der Halle der Lucas-Lossius-Schule (WTH) treffen wir uns zum Indoor-F
 liegen.</p><p>Erlaubt sind Helis bis 250-er Klasse (Elektro) und alle halle
 ntauglichen Leichtfluggeräte (&lt;500g).</p> <a href="https://mbg-lilientha
 l.de/termine/23299/hallenfliegen?tmpl=component">Dieser Event wurde importi
 ert von: https://mbg-lilienthal.de/termine/23299/hallenfliegen?tmpl=compone
 nt</a>X-EXTRAINFO:meist hat Armin.D. den Schlüssel
DTSTAMP:20260421T012443
DTSTART;TZID=Europe/Berlin:20240211T140000
DTEND;TZID=Europe/Berlin:20240211T180000
SEQUENCE:0
RRULE:FREQ=WEEKLY;UNTIL=20240401T000000Z;INTERVAL=1;BYDAY=SU
EXDATE;TZID=Europe/Berlin:20240218T140000,20240303T140000
TRANSP:OPAQUE
END:VEVENT
END:VCALENDAR