BEGIN:VCALENDAR
VERSION:2.0
PRODID:-//jEvents 2.0 for Joomla//EN
CALSCALE:GREGORIAN
METHOD:PUBLISH
BEGIN:VTIMEZONE
TZID:Europe/Berlin
BEGIN:STANDARD
DTSTART:20230316T090000
RDATE:20230326T030000
TZOFFSETFROM:+0200
TZOFFSETTO:+0100
TZNAME:Europe/Berlin CET
END:STANDARD
BEGIN:STANDARD
DTSTART:20231029T020000
RDATE:20240331T030000
TZOFFSETFROM:+0200
TZOFFSETTO:+0100
TZNAME:Europe/Berlin CET
END:STANDARD
BEGIN:STANDARD
DTSTART:20241027T020000
RDATE:20250330T030000
TZOFFSETFROM:+0200
TZOFFSETTO:+0100
TZNAME:Europe/Berlin CET
END:STANDARD
BEGIN:STANDARD
DTSTART:20251026T020000
RDATE:20260329T030000
TZOFFSETFROM:+0200
TZOFFSETTO:+0100
TZNAME:Europe/Berlin CET
END:STANDARD
BEGIN:STANDARD
DTSTART:20261025T020000
RDATE:20270328T030000
TZOFFSETFROM:+0200
TZOFFSETTO:+0100
TZNAME:Europe/Berlin CET
END:STANDARD
BEGIN:STANDARD
DTSTART:20271031T020000
RDATE:20280326T030000
TZOFFSETFROM:+0200
TZOFFSETTO:+0100
TZNAME:Europe/Berlin CET
END:STANDARD
BEGIN:DAYLIGHT
DTSTART:20230326T030000
RDATE:20231029T020000
TZOFFSETFROM:+0100
TZOFFSETTO:+0200
TZNAME:Europe/Berlin CEST
END:DAYLIGHT
BEGIN:DAYLIGHT
DTSTART:20240331T030000
RDATE:20241027T020000
TZOFFSETFROM:+0100
TZOFFSETTO:+0200
TZNAME:Europe/Berlin CEST
END:DAYLIGHT
BEGIN:DAYLIGHT
DTSTART:20250330T030000
RDATE:20251026T020000
TZOFFSETFROM:+0100
TZOFFSETTO:+0200
TZNAME:Europe/Berlin CEST
END:DAYLIGHT
BEGIN:DAYLIGHT
DTSTART:20260329T030000
RDATE:20261025T020000
TZOFFSETFROM:+0100
TZOFFSETTO:+0200
TZNAME:Europe/Berlin CEST
END:DAYLIGHT
BEGIN:DAYLIGHT
DTSTART:20270328T030000
RDATE:20271031T020000
TZOFFSETFROM:+0100
TZOFFSETTO:+0200
TZNAME:Europe/Berlin CEST
END:DAYLIGHT
END:VTIMEZONE
BEGIN:VEVENT
UID:20fcc7dcf89aa45e0ff32d4119032a33
CATEGORIES:Gemeinschaftsdienst
CREATED:20240215T204707
SUMMARY:Dienste - Verschoben - Arbeitseinsatz
LOCATION:Modellflugplatz\, Bruchweg
URL;VALUE=URI:https://mbg-lilienthal.de/termine/23324/verschoben-arbeitseinsatz?tmpl=comp
 onent
DESCRIPTION:wegen der heftigen Regenfälle wird der geplante Arbeitseinsatz abgesagt und
  der Ersatztermin genutzt\n\nDiese Woche sorgt der jährliche Arbeitseinsatz
  für ein sauberes Umfeld.\nDie Schäden des vergangenen Jahres und Ausbesser
 ungen gilt es zu bewältigen.\n \nLG Euer Vorstand\n Dieser Event wurde impo
 rtiert von: https://mbg-lilienthal.de/termine/23324/verschoben-arbeitseinsa
 tz?tmpl=component (https://mbg-lilienthal.de/termine/23324/verschoben-arbei
 tseinsatz?tmpl=component)
X-ALT-DESC;FMTTYPE=text/html:<p>wegen der heftigen Regenfälle wird der geplante Arbeitseinsatz abgesagt 
 und der Ersatztermin genutzt</p><p><br />Diese Woche sorgt der jährliche Ar
 beitseinsatz für ein sauberes Umfeld.</p><p>Die Schäden des vergangenen Jah
 res und Ausbesserungen gilt es zu bewältigen.</p><p> </p><p>LG Euer Vorstan
 d</p> <a href="https://mbg-lilienthal.de/termine/23324/verschoben-arbeitsei
 nsatz?tmpl=component">Dieser Event wurde importiert von: https://mbg-lilien
 thal.de/termine/23324/verschoben-arbeitseinsatz?tmpl=component</a>X-EXTRAINFO:Arbeitseinsatz hat Platzdienst.
DTSTAMP:20260420T191236
DTSTART;TZID=Europe/Berlin:20240316T090000
SEQUENCE:0
TRANSP:OPAQUE
END:VEVENT
END:VCALENDAR