BEGIN:VCALENDAR
VERSION:2.0
PRODID:-//jEvents 2.0 for Joomla//EN
CALSCALE:GREGORIAN
METHOD:PUBLISH
BEGIN:VTIMEZONE
TZID:Europe/Berlin
BEGIN:STANDARD
DTSTART:20231029T020000
RDATE:20240331T030000
TZOFFSETFROM:+0200
TZOFFSETTO:+0100
TZNAME:Europe/Berlin CET
END:STANDARD
BEGIN:STANDARD
DTSTART:20241027T020000
RDATE:20250330T030000
TZOFFSETFROM:+0200
TZOFFSETTO:+0100
TZNAME:Europe/Berlin CET
END:STANDARD
BEGIN:STANDARD
DTSTART:20251026T020000
RDATE:20260329T030000
TZOFFSETFROM:+0200
TZOFFSETTO:+0100
TZNAME:Europe/Berlin CET
END:STANDARD
BEGIN:STANDARD
DTSTART:20261025T020000
RDATE:20270328T030000
TZOFFSETFROM:+0200
TZOFFSETTO:+0100
TZNAME:Europe/Berlin CET
END:STANDARD
BEGIN:STANDARD
DTSTART:20271031T020000
RDATE:20280326T030000
TZOFFSETFROM:+0200
TZOFFSETTO:+0100
TZNAME:Europe/Berlin CET
END:STANDARD
BEGIN:DAYLIGHT
DTSTART:20230406T090000
RDATE:20231029T020000
TZOFFSETFROM:+0100
TZOFFSETTO:+0200
TZNAME:Europe/Berlin CEST
END:DAYLIGHT
BEGIN:DAYLIGHT
DTSTART:20240331T030000
RDATE:20241027T020000
TZOFFSETFROM:+0100
TZOFFSETTO:+0200
TZNAME:Europe/Berlin CEST
END:DAYLIGHT
BEGIN:DAYLIGHT
DTSTART:20250330T030000
RDATE:20251026T020000
TZOFFSETFROM:+0100
TZOFFSETTO:+0200
TZNAME:Europe/Berlin CEST
END:DAYLIGHT
BEGIN:DAYLIGHT
DTSTART:20260329T030000
RDATE:20261025T020000
TZOFFSETFROM:+0100
TZOFFSETTO:+0200
TZNAME:Europe/Berlin CEST
END:DAYLIGHT
BEGIN:DAYLIGHT
DTSTART:20270328T030000
RDATE:20271031T020000
TZOFFSETFROM:+0100
TZOFFSETTO:+0200
TZNAME:Europe/Berlin CEST
END:DAYLIGHT
END:VTIMEZONE
BEGIN:VEVENT
UID:1a76a280d19c45965e3fd518b8e3c938
CATEGORIES:Gemeinschaftsdienst
CREATED:20240215T205145
SUMMARY:Dienste - --abgesagt--Arbeitseinsatz (Alternativtermin)
LOCATION:Modellflugplatz\, Bruchweg
URL;VALUE=URI:https://mbg-lilienthal.de/termine/23325/abgesagt-arbeitseinsatz-alternativt
 ermin?tmpl=component
DESCRIPTION:Der Alternativtermin ist noch vorläufig. Genaue Daten werden noch rechtzeit
 ig bekannt gemacht.\n \nDiese Woche sorgt der jährliche Arbeitseinsatz für 
 ein sauberes Umfeld.\nDie Schäden des vergangenen Jahres und Ausbesserungen
  gilt es zu bewältigen.\n \nLG Euer Vorstand\n \nEdit: Wegen der schlechten
  Tragfähigkeit des Platzes nach dem Dauerregen können viele Arbeiten nicht 
 durchgeführt werden. Deswegen wird der Einsatz auf unbestimmte Zeit verscho
 ben.\n Dieser Event wurde importiert von: https://mbg-lilienthal.de/termine
 /23325/abgesagt-arbeitseinsatz-alternativtermin?tmpl=component (https://mbg
 -lilienthal.de/termine/23325/abgesagt-arbeitseinsatz-alternativtermin?tmpl=
 component)
X-ALT-DESC;FMTTYPE=text/html:<p>Der Alternativtermin ist noch vorläufig. Genaue Daten werden noch rechtz
 eitig bekannt gemacht.</p><p> </p><p>Diese Woche sorgt der jährliche Arbeit
 seinsatz für ein sauberes Umfeld.</p><p>Die Schäden des vergangenen Jahres 
 und Ausbesserungen gilt es zu bewältigen.</p><p> </p><p>LG Euer Vorstand</p
 ><p> </p><p>Edit: Wegen der schlechten Tragfähigkeit des Platzes nach dem D
 auerregen können viele Arbeiten nicht durchgeführt werden. Deswegen wird de
 r Einsatz auf unbestimmte Zeit verschoben.</p> <a href="https://mbg-lilient
 hal.de/termine/23325/abgesagt-arbeitseinsatz-alternativtermin?tmpl=componen
 t">Dieser Event wurde importiert von: https://mbg-lilienthal.de/termine/233
 25/abgesagt-arbeitseinsatz-alternativtermin?tmpl=component</a>X-EXTRAINFO:Arbeitseinsatz hat Platzdienst.
DTSTAMP:20260421T175849
DTSTART;TZID=Europe/Berlin:20240406T090000
SEQUENCE:0
TRANSP:OPAQUE
END:VEVENT
END:VCALENDAR