BEGIN:VCALENDAR
VERSION:2.0
PRODID:-//jEvents 2.0 for Joomla//EN
CALSCALE:GREGORIAN
METHOD:PUBLISH
BEGIN:VTIMEZONE
TZID:Europe/Berlin
BEGIN:STANDARD
DTSTART:20230301T190000
RDATE:20230326T030000
TZOFFSETFROM:+0200
TZOFFSETTO:+0100
TZNAME:Europe/Berlin CET
END:STANDARD
BEGIN:STANDARD
DTSTART:20231029T020000
RDATE:20240331T030000
TZOFFSETFROM:+0200
TZOFFSETTO:+0100
TZNAME:Europe/Berlin CET
END:STANDARD
BEGIN:STANDARD
DTSTART:20241027T020000
RDATE:20250330T030000
TZOFFSETFROM:+0200
TZOFFSETTO:+0100
TZNAME:Europe/Berlin CET
END:STANDARD
BEGIN:STANDARD
DTSTART:20251026T020000
RDATE:20260329T030000
TZOFFSETFROM:+0200
TZOFFSETTO:+0100
TZNAME:Europe/Berlin CET
END:STANDARD
BEGIN:STANDARD
DTSTART:20261025T020000
RDATE:20270328T030000
TZOFFSETFROM:+0200
TZOFFSETTO:+0100
TZNAME:Europe/Berlin CET
END:STANDARD
BEGIN:STANDARD
DTSTART:20271031T020000
RDATE:20280326T030000
TZOFFSETFROM:+0200
TZOFFSETTO:+0100
TZNAME:Europe/Berlin CET
END:STANDARD
BEGIN:DAYLIGHT
DTSTART:20230326T030000
RDATE:20231029T020000
TZOFFSETFROM:+0100
TZOFFSETTO:+0200
TZNAME:Europe/Berlin CEST
END:DAYLIGHT
BEGIN:DAYLIGHT
DTSTART:20240331T030000
RDATE:20241027T020000
TZOFFSETFROM:+0100
TZOFFSETTO:+0200
TZNAME:Europe/Berlin CEST
END:DAYLIGHT
BEGIN:DAYLIGHT
DTSTART:20250330T030000
RDATE:20251026T020000
TZOFFSETFROM:+0100
TZOFFSETTO:+0200
TZNAME:Europe/Berlin CEST
END:DAYLIGHT
BEGIN:DAYLIGHT
DTSTART:20260329T030000
RDATE:20261025T020000
TZOFFSETFROM:+0100
TZOFFSETTO:+0200
TZNAME:Europe/Berlin CEST
END:DAYLIGHT
BEGIN:DAYLIGHT
DTSTART:20270328T030000
RDATE:20271031T020000
TZOFFSETFROM:+0100
TZOFFSETTO:+0200
TZNAME:Europe/Berlin CEST
END:DAYLIGHT
END:VTIMEZONE
BEGIN:VEVENT
UID:9d2e82b2a66c6da3ace051baf7819500
CATEGORIES:Versammlung
CREATED:19700101T010000
SUMMARY:Termine - Außerordentliche Mitglieder Versammlung
LOCATION:34359 Reinhardshagen/Vaacke\, Mündener Str. 59\, Gasthaus Ude "Zum Weißen R
 oß"
URL;VALUE=URI:https://mbg-lilienthal.de/termine/23326/außerordentliche-mitglieder-versamm
 lung?tmpl=component
DESCRIPTION:Die Außerordentliche Mitgliederversammlung findet im Gasthaus Ude "Zum Weiß
 en Roß" in Reinhardshagen/Vaacke statt.Für Bewirtung ist gesorgt.\nDie Wahl
 - und Tagesordnung wird rechtzeitig vor dem Termin erarbeitet und bekanntge
 geben.\n \nAlle MBG Mitglieder sind herzlich eingeladen, sich aktiv zu bete
 iligen.\n\n\nWir freuen uns auf eine konstruktive Versammlung.\nDer Vorstan
 d\n\n\n Dieser Event wurde importiert von: https://mbg-lilienthal.de/termin
 e/23326/außerordentliche-mitglieder-versammlung?tmpl=component (https://mbg
 -lilienthal.de/termine/23326/außerordentliche-mitglieder-versammlung?tmpl=c
 omponent)
X-ALT-DESC;FMTTYPE=text/html:<h2>Die Außerordentliche Mitgliederversammlung findet im Gasthaus Ude "Zum 
 Weißen Roß" in Reinhardshagen/Vaacke statt.</h2><p>Für Bewirtung ist gesorg
 t.</p><p>Die Wahl- und Tagesordnung wird rechtzeitig vor dem Termin erarbei
 tet und bekanntgegeben.</p><p> </p><p>Alle MBG Mitglieder sind herzlich ein
 geladen, sich aktiv zu beteiligen.<br /><br /></p><p>Wir freuen uns auf ein
 e konstruktive Versammlung.</p><p><span style="font-size: 10pt;"><em>Der Vo
 rstand<br /></em><br /></span></p> <a href="https://mbg-lilienthal.de/termi
 ne/23326/außerordentliche-mitglieder-versammlung?tmpl=component">Dieser Eve
 nt wurde importiert von: https://mbg-lilienthal.de/termine/23326/außerorden
 tliche-mitglieder-versammlung?tmpl=component</a>X-EXTRAINFO:Anmeldung nicht erforderlich.
DTSTAMP:20260420T152741
DTSTART;TZID=Europe/Berlin:20240301T190000
SEQUENCE:0
TRANSP:OPAQUE
END:VEVENT
END:VCALENDAR