BEGIN:VCALENDAR
VERSION:2.0
PRODID:-//jEvents 2.0 for Joomla//EN
CALSCALE:GREGORIAN
METHOD:PUBLISH
BEGIN:VTIMEZONE
TZID:Europe/Berlin
BEGIN:STANDARD
DTSTART:20230322T140000
RDATE:20230326T030000
TZOFFSETFROM:+0200
TZOFFSETTO:+0100
TZNAME:Europe/Berlin CET
END:STANDARD
BEGIN:STANDARD
DTSTART:20231029T020000
RDATE:20240331T030000
TZOFFSETFROM:+0200
TZOFFSETTO:+0100
TZNAME:Europe/Berlin CET
END:STANDARD
BEGIN:STANDARD
DTSTART:20241027T020000
RDATE:20250330T030000
TZOFFSETFROM:+0200
TZOFFSETTO:+0100
TZNAME:Europe/Berlin CET
END:STANDARD
BEGIN:STANDARD
DTSTART:20251026T020000
RDATE:20260329T030000
TZOFFSETFROM:+0200
TZOFFSETTO:+0100
TZNAME:Europe/Berlin CET
END:STANDARD
BEGIN:STANDARD
DTSTART:20261025T020000
RDATE:20270328T030000
TZOFFSETFROM:+0200
TZOFFSETTO:+0100
TZNAME:Europe/Berlin CET
END:STANDARD
BEGIN:STANDARD
DTSTART:20271031T020000
RDATE:20280326T030000
TZOFFSETFROM:+0200
TZOFFSETTO:+0100
TZNAME:Europe/Berlin CET
END:STANDARD
BEGIN:DAYLIGHT
DTSTART:20230326T030000
RDATE:20231029T020000
TZOFFSETFROM:+0100
TZOFFSETTO:+0200
TZNAME:Europe/Berlin CEST
END:DAYLIGHT
BEGIN:DAYLIGHT
DTSTART:20240331T030000
RDATE:20241027T020000
TZOFFSETFROM:+0100
TZOFFSETTO:+0200
TZNAME:Europe/Berlin CEST
END:DAYLIGHT
BEGIN:DAYLIGHT
DTSTART:20250330T030000
RDATE:20251026T020000
TZOFFSETFROM:+0100
TZOFFSETTO:+0200
TZNAME:Europe/Berlin CEST
END:DAYLIGHT
BEGIN:DAYLIGHT
DTSTART:20260329T030000
RDATE:20261025T020000
TZOFFSETFROM:+0100
TZOFFSETTO:+0200
TZNAME:Europe/Berlin CEST
END:DAYLIGHT
BEGIN:DAYLIGHT
DTSTART:20270328T030000
RDATE:20271031T020000
TZOFFSETFROM:+0100
TZOFFSETTO:+0200
TZNAME:Europe/Berlin CEST
END:DAYLIGHT
END:VTIMEZONE
BEGIN:VEVENT
UID:edfbecff28da6d75648a17cdd9fd56cb
CATEGORIES:Mähdienst
CREATED:19700101T010000
SUMMARY:Dienste - Mähdienst
LOCATION:Flugplatz
URL;VALUE=URI:https://mbg-lilienthal.de/termine/23370/mähdienst?tmpl=component
DESCRIPTION:Der Mähdienst stellt sicher, dass die Startbahn an jedem Wochenende bis spä
 testens Samstagmittag ca. 14:00 Uhr gemäht ist. Meist ist Freitag Mähtag.\n
 Zum eingeteilten Dienst gehören\n - Jannik K.\n - Armin M.\n - Reinhard D.\
 n - Stefan F.\n - Armin D.Die Mitglieder sprechen sich untereinander ab.\n 
 Dieser Event wurde importiert von: https://mbg-lilienthal.de/termine/23370/
 mähdienst?tmpl=component (https://mbg-lilienthal.de/termine/23370/mähdienst
 ?tmpl=component)
X-ALT-DESC;FMTTYPE=text/html:<p>Der Mähdienst stellt sicher, dass die Startbahn an jedem Wochenende bis 
 spätestens Samstagmittag ca. 14:00 Uhr gemäht ist. Meist ist Freitag Mähtag
 .</p><h4>Zum eingeteilten Dienst gehören</h4><ul><li>Jannik K.</li><li>Armi
 n M.</li><li>Reinhard D.</li><li>Stefan F.</li><li>Armin D.</li></ul><p>Die
  Mitglieder sprechen sich untereinander ab.</p> <a href="https://mbg-lilien
 thal.de/termine/23370/mähdienst?tmpl=component">Dieser Event wurde importie
 rt von: https://mbg-lilienthal.de/termine/23370/mähdienst?tmpl=component</a
 >X-EXTRAINFO:Während der Mähzeit kann nicht geflogen werden.
DTSTAMP:20260421T045723
DTSTART;TZID=Europe/Berlin:20240322T140000
DTEND;TZID=Europe/Berlin:20240322T170000
SEQUENCE:0
RRULE:FREQ=WEEKLY;UNTIL=20241026T000000Z;INTERVAL=1;BYDAY=FR
TRANSP:OPAQUE
END:VEVENT
END:VCALENDAR