BEGIN:VCALENDAR
VERSION:2.0
PRODID:-//jEvents 2.0 for Joomla//EN
CALSCALE:GREGORIAN
METHOD:PUBLISH
BEGIN:VTIMEZONE
TZID:Europe/Berlin
BEGIN:STANDARD
DTSTART:20241027T020000
RDATE:20250330T030000
TZOFFSETFROM:+0200
TZOFFSETTO:+0100
TZNAME:Europe/Berlin CET
END:STANDARD
BEGIN:STANDARD
DTSTART:20251026T020000
RDATE:20260329T030000
TZOFFSETFROM:+0200
TZOFFSETTO:+0100
TZNAME:Europe/Berlin CET
END:STANDARD
BEGIN:STANDARD
DTSTART:20261025T020000
RDATE:20270328T030000
TZOFFSETFROM:+0200
TZOFFSETTO:+0100
TZNAME:Europe/Berlin CET
END:STANDARD
BEGIN:STANDARD
DTSTART:20271031T020000
RDATE:20280326T030000
TZOFFSETFROM:+0200
TZOFFSETTO:+0100
TZNAME:Europe/Berlin CET
END:STANDARD
BEGIN:DAYLIGHT
DTSTART:20240424T000000
RDATE:20241027T020000
TZOFFSETFROM:+0100
TZOFFSETTO:+0200
TZNAME:Europe/Berlin CEST
END:DAYLIGHT
BEGIN:DAYLIGHT
DTSTART:20250330T030000
RDATE:20251026T020000
TZOFFSETFROM:+0100
TZOFFSETTO:+0200
TZNAME:Europe/Berlin CEST
END:DAYLIGHT
BEGIN:DAYLIGHT
DTSTART:20260329T030000
RDATE:20261025T020000
TZOFFSETFROM:+0100
TZOFFSETTO:+0200
TZNAME:Europe/Berlin CEST
END:DAYLIGHT
BEGIN:DAYLIGHT
DTSTART:20270328T030000
RDATE:20271031T020000
TZOFFSETFROM:+0100
TZOFFSETTO:+0200
TZNAME:Europe/Berlin CEST
END:DAYLIGHT
END:VTIMEZONE
BEGIN:VEVENT
UID:f3fd2912708494f5e4fc5faaba44dea3
CATEGORIES:Platzdienst
CREATED:19700101T010000
SUMMARY:JEvents-2025 - Tristan Z.
LOCATION:Modellflugplatz\, Bruchweg
URL;VALUE=URI:https://mbg-lilienthal.de/termine/23968/tristan-z?tmpl=component
DESCRIPTION:Diese Woche sorgt Tristan Z. für ein sauberes Umfeld. Dieser Event wurde im
 portiert von: https://mbg-lilienthal.de/termine/23968/tristan-z?tmpl=compon
 ent (https://mbg-lilienthal.de/termine/23968/tristan-z?tmpl=component)
X-ALT-DESC;FMTTYPE=text/html:Diese Woche sorgt Tristan Z. für ein sauberes Umfeld. <a href="https://mbg-
 lilienthal.de/termine/23968/tristan-z?tmpl=component">Dieser Event wurde im
 portiert von: https://mbg-lilienthal.de/termine/23968/tristan-z?tmpl=compon
 ent</a>X-EXTRAINFO:Tristan Z. hat Platzdienst.
DTSTAMP:20260420T060208
DTSTART;TZID=Europe/Berlin:20250425T000000
DTEND;TZID=Europe/Berlin:20250426T120000
SEQUENCE:0
RRULE:FREQ=DAILY;COUNT=1;INTERVAL=1
TRANSP:OPAQUE
END:VEVENT
END:VCALENDAR