BEGIN:VCALENDAR
VERSION:2.0
PRODID:-//jEvents 2.0 for Joomla//EN
CALSCALE:GREGORIAN
METHOD:PUBLISH
BEGIN:VTIMEZONE
TZID:Europe/Berlin
BEGIN:STANDARD
DTSTART:20241027T020000
RDATE:20250330T030000
TZOFFSETFROM:+0200
TZOFFSETTO:+0100
TZNAME:Europe/Berlin CET
END:STANDARD
BEGIN:STANDARD
DTSTART:20251026T020000
RDATE:20260329T030000
TZOFFSETFROM:+0200
TZOFFSETTO:+0100
TZNAME:Europe/Berlin CET
END:STANDARD
BEGIN:STANDARD
DTSTART:20261025T020000
RDATE:20270328T030000
TZOFFSETFROM:+0200
TZOFFSETTO:+0100
TZNAME:Europe/Berlin CET
END:STANDARD
BEGIN:STANDARD
DTSTART:20271031T020000
RDATE:20280326T030000
TZOFFSETFROM:+0200
TZOFFSETTO:+0100
TZNAME:Europe/Berlin CET
END:STANDARD
BEGIN:DAYLIGHT
DTSTART:20240531T100000
RDATE:20241027T020000
TZOFFSETFROM:+0100
TZOFFSETTO:+0200
TZNAME:Europe/Berlin CEST
END:DAYLIGHT
BEGIN:DAYLIGHT
DTSTART:20250330T030000
RDATE:20251026T020000
TZOFFSETFROM:+0100
TZOFFSETTO:+0200
TZNAME:Europe/Berlin CEST
END:DAYLIGHT
BEGIN:DAYLIGHT
DTSTART:20260329T030000
RDATE:20261025T020000
TZOFFSETFROM:+0100
TZOFFSETTO:+0200
TZNAME:Europe/Berlin CEST
END:DAYLIGHT
BEGIN:DAYLIGHT
DTSTART:20270328T030000
RDATE:20271031T020000
TZOFFSETFROM:+0100
TZOFFSETTO:+0200
TZNAME:Europe/Berlin CEST
END:DAYLIGHT
END:VTIMEZONE
BEGIN:VEVENT
UID:48a16b8f3fe1a0a619971bb58097a3cf
CATEGORIES:Sondertermine
CREATED:20250307T193238
SUMMARY:Termine - Tag des Modellfluges
LOCATION:Veckerhagen\, Bruchweg
URL;VALUE=URI:https://mbg-lilienthal.de/termine/24001/tag-des-modellfluges?tmpl=component
DESCRIPTION:Zum bundesweiten Tag des Modellfluges findet bei der MBG für alle Interessi
 erten jeden Alters betreutes (Schnupper)-Fliegen mit Anfängermodellen statt
 . Vorkenntnisse nicht erforderlich, Neugier und Interesse reichen.\nEs sind
  alle herzlich eingeladen, ab 10Uhr vorbeizukommen. \n \nEuer örtlicher Mod
 ellflugverein, Modellbaugruppe Lilienthal Veckerhagen e.V.\n Dieser Event w
 urde importiert von: https://mbg-lilienthal.de/termine/24001/tag-des-modell
 fluges?tmpl=component
X-ALT-DESC;FMTTYPE=text/html:<p>Zum bundesweiten Tag des Modellfluges findet bei der MBG für alle Intere
 ssierten jeden Alters betreutes (Schnupper)-Fliegen mit Anfängermodellen st
 att. Vorkenntnisse nicht erforderlich, Neugier und Interesse reichen.</p><p
 >Es sind alle herzlich eingeladen, ab 10Uhr vorbeizukommen. </p><p> </p><p>
 Euer örtlicher Modellflugverein, Modellbaugruppe Lilienthal Veckerhagen e.V
 .</p> <a href="https://mbg-lilienthal.de/termine/24001/tag-des-modellfluges
 ?tmpl=component">Dieser Event wurde importiert von: https://mbg-lilienthal.
 de/termine/24001/tag-des-modellfluges?tmpl=component</a>X-EXTRAINFO:https://mbg-lilienthal.de/
DTSTAMP:20260419T145014
DTSTART;TZID=Europe/Berlin:20250601T100000
DTEND;TZID=Europe/Berlin:20250601T180000
SEQUENCE:0
TRANSP:OPAQUE
END:VEVENT
END:VCALENDAR