BEGIN:VCALENDAR
VERSION:2.0
PRODID:-//jEvents 2.0 for Joomla//EN
CALSCALE:GREGORIAN
METHOD:PUBLISH
BEGIN:VTIMEZONE
TZID:Europe/Berlin
BEGIN:STANDARD
DTSTART:20241027T020000
RDATE:20250330T030000
TZOFFSETFROM:+0200
TZOFFSETTO:+0100
TZNAME:Europe/Berlin CET
END:STANDARD
BEGIN:STANDARD
DTSTART:20251026T020000
RDATE:20260329T030000
TZOFFSETFROM:+0200
TZOFFSETTO:+0100
TZNAME:Europe/Berlin CET
END:STANDARD
BEGIN:STANDARD
DTSTART:20261025T020000
RDATE:20270328T030000
TZOFFSETFROM:+0200
TZOFFSETTO:+0100
TZNAME:Europe/Berlin CET
END:STANDARD
BEGIN:STANDARD
DTSTART:20271031T020000
RDATE:20280326T030000
TZOFFSETFROM:+0200
TZOFFSETTO:+0100
TZNAME:Europe/Berlin CET
END:STANDARD
BEGIN:DAYLIGHT
DTSTART:20240605T000000
RDATE:20241027T020000
TZOFFSETFROM:+0100
TZOFFSETTO:+0200
TZNAME:Europe/Berlin CEST
END:DAYLIGHT
BEGIN:DAYLIGHT
DTSTART:20250330T030000
RDATE:20251026T020000
TZOFFSETFROM:+0100
TZOFFSETTO:+0200
TZNAME:Europe/Berlin CEST
END:DAYLIGHT
BEGIN:DAYLIGHT
DTSTART:20260329T030000
RDATE:20261025T020000
TZOFFSETFROM:+0100
TZOFFSETTO:+0200
TZNAME:Europe/Berlin CEST
END:DAYLIGHT
BEGIN:DAYLIGHT
DTSTART:20270328T030000
RDATE:20271031T020000
TZOFFSETFROM:+0100
TZOFFSETTO:+0200
TZNAME:Europe/Berlin CEST
END:DAYLIGHT
END:VTIMEZONE
BEGIN:VEVENT
UID:103e496a7a060a1bb77942c67027a7d2
CATEGORIES:Extern
CREATED:20250307T193922
SUMMARY:Termine - Pfingst Meeting in Uetze
LOCATION:Uetze
URL;VALUE=URI:https://mbg-lilienthal.de/termine/24004/pfingst-meeting-in-uetze?tmpl=compo
 nent
DESCRIPTION:<p>Veranstaltung außerhalb der MBG</p> <a href="https://mbg-lilienthal.de/t
 ermine/24004/pfingst-meeting-in-uetze?tmpl=component">Dieser Event wurde im
 portiert von: https://mbg-lilienthal.de/termine/24004/pfingst-meeting-in-ue
 tze?tmpl=component</a>X-EXTRAINFO:https://www.mfg-uetze.de/calendar
DTSTAMP:20260420T051107
DTSTART;TZID=Europe/Berlin;VALUE=DATE:20250606
DTEND;TZID=Europe/Berlin;VALUE=DATE:20250610
SEQUENCE:0
TRANSP:OPAQUE
END:VEVENT
END:VCALENDAR