BEGIN:VCALENDAR
VERSION:2.0
PRODID:-//jEvents 2.0 for Joomla//EN
CALSCALE:GREGORIAN
METHOD:PUBLISH
BEGIN:VTIMEZONE
TZID:Europe/Berlin
BEGIN:STANDARD
DTSTART:20241226T120000
RDATE:20250330T030000
TZOFFSETFROM:+0200
TZOFFSETTO:+0100
TZNAME:Europe/Berlin CET
END:STANDARD
BEGIN:STANDARD
DTSTART:20251026T020000
RDATE:20260329T030000
TZOFFSETFROM:+0200
TZOFFSETTO:+0100
TZNAME:Europe/Berlin CET
END:STANDARD
BEGIN:STANDARD
DTSTART:20261025T020000
RDATE:20270328T030000
TZOFFSETFROM:+0200
TZOFFSETTO:+0100
TZNAME:Europe/Berlin CET
END:STANDARD
BEGIN:STANDARD
DTSTART:20271031T020000
RDATE:20280326T030000
TZOFFSETFROM:+0200
TZOFFSETTO:+0100
TZNAME:Europe/Berlin CET
END:STANDARD
BEGIN:DAYLIGHT
DTSTART:20250330T030000
RDATE:20251026T020000
TZOFFSETFROM:+0100
TZOFFSETTO:+0200
TZNAME:Europe/Berlin CEST
END:DAYLIGHT
BEGIN:DAYLIGHT
DTSTART:20260329T030000
RDATE:20261025T020000
TZOFFSETFROM:+0100
TZOFFSETTO:+0200
TZNAME:Europe/Berlin CEST
END:DAYLIGHT
BEGIN:DAYLIGHT
DTSTART:20270328T030000
RDATE:20271031T020000
TZOFFSETFROM:+0100
TZOFFSETTO:+0200
TZNAME:Europe/Berlin CEST
END:DAYLIGHT
END:VTIMEZONE
BEGIN:VEVENT
UID:0d18c6738a6b29a6285216e589391df1
CATEGORIES:Sondertermine
CREATED:19700101T010000
SUMMARY:Termine - Grillen zum Jahresausklang bei der MBG
LOCATION:Modellflugplatz\, Bruchweg
URL;VALUE=URI:https://mbg-lilienthal.de/termine/24128/grillen-zum-jahresausklang-bei-der-
 mbg?tmpl=component
DESCRIPTION:<p>Treffen der Mitglieder der MBG zum Jahresausklang mit freien Grillwürstc
 hen und Getränken. Abstimmung über Whatsappgruppe oder Mail an <a href="mai
 lto:1.Vorsitzender@mbg-lilienthal.de">1.Vorsitzender@mbg-lilienthal.de</a> 
 .</p> <a href="https://mbg-lilienthal.de/termine/24128/grillen-zum-jahresau
 sklang-bei-der-mbg?tmpl=component">Dieser Event wurde importiert von: https
 ://mbg-lilienthal.de/termine/24128/grillen-zum-jahresausklang-bei-der-mbg?t
 mpl=component</a>X-EXTRAINFO:https://mbg-lilienthal.de/
DTSTAMP:20260419T224231
DTSTART;TZID=Europe/Berlin:20251227T120000
DTEND;TZID=Europe/Berlin:20251227T180000
SEQUENCE:0
TRANSP:OPAQUE
END:VEVENT
END:VCALENDAR