BEGIN:VCALENDAR
VERSION:2.0
PRODID:-//jEvents 2.0 for Joomla//EN
CALSCALE:GREGORIAN
METHOD:PUBLISH
BEGIN:VTIMEZONE
TZID:Europe/Berlin
BEGIN:STANDARD
DTSTART:20231029T020000
RDATE:20240331T030000
TZOFFSETFROM:+0200
TZOFFSETTO:+0100
TZNAME:Europe/Berlin CET
END:STANDARD
BEGIN:STANDARD
DTSTART:20241027T020000
RDATE:20250330T030000
TZOFFSETFROM:+0200
TZOFFSETTO:+0100
TZNAME:Europe/Berlin CET
END:STANDARD
BEGIN:STANDARD
DTSTART:20251026T020000
RDATE:20260329T030000
TZOFFSETFROM:+0200
TZOFFSETTO:+0100
TZNAME:Europe/Berlin CET
END:STANDARD
BEGIN:STANDARD
DTSTART:20261025T020000
RDATE:20270328T030000
TZOFFSETFROM:+0200
TZOFFSETTO:+0100
TZNAME:Europe/Berlin CET
END:STANDARD
BEGIN:STANDARD
DTSTART:20271031T020000
RDATE:20280326T030000
TZOFFSETFROM:+0200
TZOFFSETTO:+0100
TZNAME:Europe/Berlin CET
END:STANDARD
BEGIN:DAYLIGHT
DTSTART:20231016T140000
RDATE:20231029T020000
TZOFFSETFROM:+0100
TZOFFSETTO:+0200
TZNAME:Europe/Berlin CEST
END:DAYLIGHT
BEGIN:DAYLIGHT
DTSTART:20240331T030000
RDATE:20241027T020000
TZOFFSETFROM:+0100
TZOFFSETTO:+0200
TZNAME:Europe/Berlin CEST
END:DAYLIGHT
BEGIN:DAYLIGHT
DTSTART:20250330T030000
RDATE:20251026T020000
TZOFFSETFROM:+0100
TZOFFSETTO:+0200
TZNAME:Europe/Berlin CEST
END:DAYLIGHT
BEGIN:DAYLIGHT
DTSTART:20260329T030000
RDATE:20261025T020000
TZOFFSETFROM:+0100
TZOFFSETTO:+0200
TZNAME:Europe/Berlin CEST
END:DAYLIGHT
BEGIN:DAYLIGHT
DTSTART:20270328T030000
RDATE:20271031T020000
TZOFFSETFROM:+0100
TZOFFSETTO:+0200
TZNAME:Europe/Berlin CEST
END:DAYLIGHT
END:VTIMEZONE
BEGIN:VEVENT
UID:79766ebcec49fb3912255e1bbbcfd3c3
CATEGORIES:Outdoor-Fliegen
CREATED:20240204T214435
SUMMARY:Termine - Rentnertreff
LOCATION:34359 Reinhardshagen/Veckerhagen\, Bruchweg\, Modellflugplatz
URL;VALUE=URI:https://mbg-lilienthal.de/termine/23321/rentnertreff?tmpl=component
DESCRIPTION:<p>Liebe Rentner oder die es noch werden wollen!</p><p>Wir (Dieter insbeson
 dere) treffen uns wieder zum Klönschnack auf unserem Flugplatz. Es darf auc
 h geflogen werden. Also Akku laden nicht vergessen. Der Schnack ist auch ni
 cht nur auf Rentner bezogen, denn auch jüngere sind gern gesehen. Natürlich
  auch Gäste, Interessierte und Freunde.</p> <a href="https://mbg-lilienthal
 .de/termine/23321/rentnertreff?tmpl=component">Dieser Event wurde importier
 t von: https://mbg-lilienthal.de/termine/23321/rentnertreff?tmpl=component<
 /a>CONTACT:Dieter
DTSTAMP:20260420T205613
DTSTART;TZID=Europe/Berlin:20241016T140000
DTEND;TZID=Europe/Berlin:20241016T180000
SEQUENCE:0
TRANSP:OPAQUE
END:VEVENT
END:VCALENDAR