BEGIN:VCALENDAR
VERSION:2.0
PRODID:-//jEvents 2.0 for Joomla//EN
CALSCALE:GREGORIAN
METHOD:PUBLISH
BEGIN:VTIMEZONE
TZID:Europe/Berlin
BEGIN:STANDARD
DTSTART:20241027T020000
RDATE:20250330T030000
TZOFFSETFROM:+0200
TZOFFSETTO:+0100
TZNAME:Europe/Berlin CET
END:STANDARD
BEGIN:STANDARD
DTSTART:20251026T020000
RDATE:20260329T030000
TZOFFSETFROM:+0200
TZOFFSETTO:+0100
TZNAME:Europe/Berlin CET
END:STANDARD
BEGIN:STANDARD
DTSTART:20261025T020000
RDATE:20270328T030000
TZOFFSETFROM:+0200
TZOFFSETTO:+0100
TZNAME:Europe/Berlin CET
END:STANDARD
BEGIN:STANDARD
DTSTART:20271031T020000
RDATE:20280326T030000
TZOFFSETFROM:+0200
TZOFFSETTO:+0100
TZNAME:Europe/Berlin CET
END:STANDARD
BEGIN:DAYLIGHT
DTSTART:20240508T000000
RDATE:20241027T020000
TZOFFSETFROM:+0100
TZOFFSETTO:+0200
TZNAME:Europe/Berlin CEST
END:DAYLIGHT
BEGIN:DAYLIGHT
DTSTART:20250330T030000
RDATE:20251026T020000
TZOFFSETFROM:+0100
TZOFFSETTO:+0200
TZNAME:Europe/Berlin CEST
END:DAYLIGHT
BEGIN:DAYLIGHT
DTSTART:20260329T030000
RDATE:20261025T020000
TZOFFSETFROM:+0100
TZOFFSETTO:+0200
TZNAME:Europe/Berlin CEST
END:DAYLIGHT
BEGIN:DAYLIGHT
DTSTART:20270328T030000
RDATE:20271031T020000
TZOFFSETFROM:+0100
TZOFFSETTO:+0200
TZNAME:Europe/Berlin CEST
END:DAYLIGHT
END:VTIMEZONE
BEGIN:VEVENT
UID:46639db784a0f6cb652fc785d472ad39
CATEGORIES:Platzdienst
CREATED:20250307T142316
SUMMARY:JEvents-2025 - Lukas Z.
LOCATION:Modellflugplatz\, Bruchweg
URL;VALUE=URI:https://mbg-lilienthal.de/termine/23970/lukas-z?tmpl=component
DESCRIPTION:Diese Woche sorgt Lukas Z. für ein sauberes Umfeld. Dieser Event wurde impo
 rtiert von: https://mbg-lilienthal.de/termine/23970/lukas-z?tmpl=component 
 (https://mbg-lilienthal.de/termine/23970/lukas-z?tmpl=component)
X-ALT-DESC;FMTTYPE=text/html:Diese Woche sorgt Lukas Z. für ein sauberes Umfeld. <a href="https://mbg-li
 lienthal.de/termine/23970/lukas-z?tmpl=component">Dieser Event wurde import
 iert von: https://mbg-lilienthal.de/termine/23970/lukas-z?tmpl=component</a
 >X-EXTRAINFO:Lukas Z. hat Platzdienst.
DTSTAMP:20260419T154504
DTSTART;TZID=Europe/Berlin:20250509T000000
DTEND;TZID=Europe/Berlin:20250510T120000
SEQUENCE:0
TRANSP:OPAQUE
END:VEVENT
END:VCALENDAR