BEGIN:VCALENDAR
VERSION:2.0
PRODID:-//jEvents 2.0 for Joomla//EN
CALSCALE:GREGORIAN
METHOD:PUBLISH
BEGIN:VTIMEZONE
TZID:Europe/Berlin
BEGIN:STANDARD
DTSTART:20241027T020000
RDATE:20250330T030000
TZOFFSETFROM:+0200
TZOFFSETTO:+0100
TZNAME:Europe/Berlin CET
END:STANDARD
BEGIN:STANDARD
DTSTART:20251026T020000
RDATE:20260329T030000
TZOFFSETFROM:+0200
TZOFFSETTO:+0100
TZNAME:Europe/Berlin CET
END:STANDARD
BEGIN:STANDARD
DTSTART:20261025T020000
RDATE:20270328T030000
TZOFFSETFROM:+0200
TZOFFSETTO:+0100
TZNAME:Europe/Berlin CET
END:STANDARD
BEGIN:STANDARD
DTSTART:20271031T020000
RDATE:20280326T030000
TZOFFSETFROM:+0200
TZOFFSETTO:+0100
TZNAME:Europe/Berlin CET
END:STANDARD
BEGIN:DAYLIGHT
DTSTART:20240418T000000
RDATE:20241027T020000
TZOFFSETFROM:+0100
TZOFFSETTO:+0200
TZNAME:Europe/Berlin CEST
END:DAYLIGHT
BEGIN:DAYLIGHT
DTSTART:20250330T030000
RDATE:20251026T020000
TZOFFSETFROM:+0100
TZOFFSETTO:+0200
TZNAME:Europe/Berlin CEST
END:DAYLIGHT
BEGIN:DAYLIGHT
DTSTART:20260329T030000
RDATE:20261025T020000
TZOFFSETFROM:+0100
TZOFFSETTO:+0200
TZNAME:Europe/Berlin CEST
END:DAYLIGHT
BEGIN:DAYLIGHT
DTSTART:20270328T030000
RDATE:20271031T020000
TZOFFSETFROM:+0100
TZOFFSETTO:+0200
TZNAME:Europe/Berlin CEST
END:DAYLIGHT
END:VTIMEZONE
BEGIN:VEVENT
UID:4dd4755c75a70328fcceaa71c0c57cf2
CATEGORIES:Extern
CREATED:19700101T010000
SUMMARY:Termine - Anfliegen MSV Condor in Göttingen
LOCATION:Modellflugplatz\, Elliehausen
URL;VALUE=URI:https://mbg-lilienthal.de/termine/23997/anfliegen-msv-condor-in-göttingen?t
 mpl=component
DESCRIPTION:<p>Veranstaltung außerhalb der MBG für mit Condor befreundete Vereine</p> <
 a href="https://mbg-lilienthal.de/termine/23997/anfliegen-msv-condor-in-göt
 tingen?tmpl=component">Dieser Event wurde importiert von: https://mbg-lilie
 nthal.de/termine/23997/anfliegen-msv-condor-in-göttingen?tmpl=component</a>X-EXTRAINFO:https://msv-condor.de/events/categories/condor-oeffentlich/
DTSTAMP:20260420T041225
DTSTART;TZID=Europe/Berlin;VALUE=DATE:20250419
DTEND;TZID=Europe/Berlin;VALUE=DATE:20250420
SEQUENCE:0
TRANSP:OPAQUE
END:VEVENT
END:VCALENDAR