BEGIN:VCALENDAR
VERSION:2.0
PRODID:-//jEvents 2.0 for Joomla//EN
CALSCALE:GREGORIAN
METHOD:PUBLISH
BEGIN:VTIMEZONE
TZID:Europe/Berlin
BEGIN:STANDARD
DTSTART:20231029T020000
RDATE:20240331T030000
TZOFFSETFROM:+0200
TZOFFSETTO:+0100
TZNAME:Europe/Berlin CET
END:STANDARD
BEGIN:STANDARD
DTSTART:20241027T020000
RDATE:20250330T030000
TZOFFSETFROM:+0200
TZOFFSETTO:+0100
TZNAME:Europe/Berlin CET
END:STANDARD
BEGIN:STANDARD
DTSTART:20251026T020000
RDATE:20260329T030000
TZOFFSETFROM:+0200
TZOFFSETTO:+0100
TZNAME:Europe/Berlin CET
END:STANDARD
BEGIN:STANDARD
DTSTART:20261025T020000
RDATE:20270328T030000
TZOFFSETFROM:+0200
TZOFFSETTO:+0100
TZNAME:Europe/Berlin CET
END:STANDARD
BEGIN:STANDARD
DTSTART:20271031T020000
RDATE:20280326T030000
TZOFFSETFROM:+0200
TZOFFSETTO:+0100
TZNAME:Europe/Berlin CET
END:STANDARD
BEGIN:DAYLIGHT
DTSTART:20230420T093000
RDATE:20231029T020000
TZOFFSETFROM:+0100
TZOFFSETTO:+0200
TZNAME:Europe/Berlin CEST
END:DAYLIGHT
BEGIN:DAYLIGHT
DTSTART:20240331T030000
RDATE:20241027T020000
TZOFFSETFROM:+0100
TZOFFSETTO:+0200
TZNAME:Europe/Berlin CEST
END:DAYLIGHT
BEGIN:DAYLIGHT
DTSTART:20250330T030000
RDATE:20251026T020000
TZOFFSETFROM:+0100
TZOFFSETTO:+0200
TZNAME:Europe/Berlin CEST
END:DAYLIGHT
BEGIN:DAYLIGHT
DTSTART:20260329T030000
RDATE:20261025T020000
TZOFFSETFROM:+0100
TZOFFSETTO:+0200
TZNAME:Europe/Berlin CEST
END:DAYLIGHT
BEGIN:DAYLIGHT
DTSTART:20270328T030000
RDATE:20271031T020000
TZOFFSETFROM:+0100
TZOFFSETTO:+0200
TZNAME:Europe/Berlin CEST
END:DAYLIGHT
END:VTIMEZONE
BEGIN:VEVENT
UID:dcfced327e46b441d5557272702e6e99
CATEGORIES:Gemeinschaftsdienst
CREATED:20240413T205041
SUMMARY:Dienste - Arbeitseinsatz (Alternativtermin)
LOCATION:Modellflugplatz\, Bruchweg
URL;VALUE=URI:https://mbg-lilienthal.de/termine/jahresueberblick/23470/arbeitseinsatz-alt
 ernativtermin?tmpl=component
DESCRIPTION:In der Mitgliederversammlung vom 12.04.2024 wurde der Termin vereinbart.\nT
 reffen ist 09:30h - Arbeitbeginn ist 10 Uhr!\nPünktliches Erscheinen ist er
 wünscht!\n \nDiese Woche sorgt der jährliche Arbeitseinsatz für ein saubere
 s Umfeld.\nDie Schäden des vergangenen Jahres und Ausbesserungen gilt es zu
  bewältigen.\n \nLG Euer Vorstand\n \n \n Dieser Event wurde importiert von
 : https://mbg-lilienthal.de/termine/jahresueberblick/23470/arbeitseinsatz-a
 lternativtermin?tmpl=component (https://mbg-lilienthal.de/termine/jahresueb
 erblick/23470/arbeitseinsatz-alternativtermin?tmpl=component)
X-ALT-DESC;FMTTYPE=text/html:<p>In der Mitgliederversammlung vom 12.04.2024 wurde der Termin vereinbart.
 </p><p>Treffen ist 09:30h - Arbeitbeginn ist 10 Uhr!</p><p>Pünktliches Ersc
 heinen ist erwünscht!</p><p> </p><p>Diese Woche sorgt der jährliche Arbeits
 einsatz für ein sauberes Umfeld.</p><p>Die Schäden des vergangenen Jahres u
 nd Ausbesserungen gilt es zu bewältigen.</p><p> </p><p>LG Euer Vorstand</p>
 <p> </p><p> </p> <a href="https://mbg-lilienthal.de/termine/jahresueberblic
 k/23470/arbeitseinsatz-alternativtermin?tmpl=component">Dieser Event wurde 
 importiert von: https://mbg-lilienthal.de/termine/jahresueberblick/23470/ar
 beitseinsatz-alternativtermin?tmpl=component</a>X-EXTRAINFO:Arbeitseinsatz hat Platzdienst.
DTSTAMP:20260424T232738
DTSTART;TZID=Europe/Berlin:20240420T093000
SEQUENCE:0
TRANSP:OPAQUE
END:VEVENT
END:VCALENDAR