BEGIN:VCALENDAR
VERSION:2.0
PRODID:-//jEvents 2.0 for Joomla//EN
CALSCALE:GREGORIAN
METHOD:PUBLISH
BEGIN:VTIMEZONE
TZID:Europe/Berlin
BEGIN:STANDARD
DTSTART:20241027T020000
RDATE:20250330T030000
TZOFFSETFROM:+0200
TZOFFSETTO:+0100
TZNAME:Europe/Berlin CET
END:STANDARD
BEGIN:STANDARD
DTSTART:20251026T020000
RDATE:20260329T030000
TZOFFSETFROM:+0200
TZOFFSETTO:+0100
TZNAME:Europe/Berlin CET
END:STANDARD
BEGIN:STANDARD
DTSTART:20261025T020000
RDATE:20270328T030000
TZOFFSETFROM:+0200
TZOFFSETTO:+0100
TZNAME:Europe/Berlin CET
END:STANDARD
BEGIN:STANDARD
DTSTART:20271031T020000
RDATE:20280326T030000
TZOFFSETFROM:+0200
TZOFFSETTO:+0100
TZNAME:Europe/Berlin CET
END:STANDARD
BEGIN:DAYLIGHT
DTSTART:20241023T000000
RDATE:20241027T020000
TZOFFSETFROM:+0100
TZOFFSETTO:+0200
TZNAME:Europe/Berlin CEST
END:DAYLIGHT
BEGIN:DAYLIGHT
DTSTART:20250330T030000
RDATE:20251026T020000
TZOFFSETFROM:+0100
TZOFFSETTO:+0200
TZNAME:Europe/Berlin CEST
END:DAYLIGHT
BEGIN:DAYLIGHT
DTSTART:20260329T030000
RDATE:20261025T020000
TZOFFSETFROM:+0100
TZOFFSETTO:+0200
TZNAME:Europe/Berlin CEST
END:DAYLIGHT
BEGIN:DAYLIGHT
DTSTART:20270328T030000
RDATE:20271031T020000
TZOFFSETFROM:+0100
TZOFFSETTO:+0200
TZNAME:Europe/Berlin CEST
END:DAYLIGHT
END:VTIMEZONE
BEGIN:VEVENT
UID:6148f17c2547448d7fe64c4b37f03c37
CATEGORIES:Platzdienst
CREATED:19700101T010000
SUMMARY:JEvents-2025 - Alexander L.
LOCATION:Modellflugplatz\, Bruchweg
URL;VALUE=URI:https://mbg-lilienthal.de/termine/jahresueberblick/23994/alexander-l?tmpl=c
 omponent
DESCRIPTION:Diese Woche sorgt Alexander L. für ein sauberes Umfeld. Dieser Event wurde 
 importiert von: https://mbg-lilienthal.de/termine/jahresueberblick/23994/al
 exander-l?tmpl=component (https://mbg-lilienthal.de/termine/jahresueberblic
 k/23994/alexander-l?tmpl=component)
X-ALT-DESC;FMTTYPE=text/html:Diese Woche sorgt Alexander L. für ein sauberes Umfeld. <a href="https://mb
 g-lilienthal.de/termine/jahresueberblick/23994/alexander-l?tmpl=component">
 Dieser Event wurde importiert von: https://mbg-lilienthal.de/termine/jahres
 ueberblick/23994/alexander-l?tmpl=component</a>X-EXTRAINFO:Alexander L. hat Platzdienst.
DTSTAMP:20260421T124155
DTSTART;TZID=Europe/Berlin:20251024T000000
DTEND;TZID=Europe/Berlin:20251025T120000
SEQUENCE:0
RRULE:FREQ=DAILY;COUNT=1;INTERVAL=1
TRANSP:OPAQUE
END:VEVENT
END:VCALENDAR