BEGIN:VCALENDAR
VERSION:2.0
PRODID:-//jEvents 2.0 for Joomla//EN
CALSCALE:GREGORIAN
METHOD:PUBLISH
BEGIN:VTIMEZONE
TZID:Europe/Berlin
BEGIN:STANDARD
DTSTART:20251026T020000
RDATE:20260329T030000
TZOFFSETFROM:+0200
TZOFFSETTO:+0100
TZNAME:Europe/Berlin CET
END:STANDARD
BEGIN:STANDARD
DTSTART:20261025T020000
RDATE:20270328T030000
TZOFFSETFROM:+0200
TZOFFSETTO:+0100
TZNAME:Europe/Berlin CET
END:STANDARD
BEGIN:STANDARD
DTSTART:20271031T020000
RDATE:20280326T030000
TZOFFSETFROM:+0200
TZOFFSETTO:+0100
TZNAME:Europe/Berlin CET
END:STANDARD
BEGIN:DAYLIGHT
DTSTART:20250416T000000
RDATE:20251026T020000
TZOFFSETFROM:+0100
TZOFFSETTO:+0200
TZNAME:Europe/Berlin CEST
END:DAYLIGHT
BEGIN:DAYLIGHT
DTSTART:20260329T030000
RDATE:20261025T020000
TZOFFSETFROM:+0100
TZOFFSETTO:+0200
TZNAME:Europe/Berlin CEST
END:DAYLIGHT
BEGIN:DAYLIGHT
DTSTART:20270328T030000
RDATE:20271031T020000
TZOFFSETFROM:+0100
TZOFFSETTO:+0200
TZNAME:Europe/Berlin CEST
END:DAYLIGHT
END:VTIMEZONE
BEGIN:VEVENT
UID:fac89caca4bf23841aeb7acf2fdb408b
CATEGORIES:Platzdienst
CREATED:20260319T085130
SUMMARY:Dienste - Uwe M.
LOCATION:Modellflugplatz\, Bruchweg
URL;VALUE=URI:https://mbg-lilienthal.de/termine/jahresueberblick/24235/uwe-m?tmpl=compone
 nt
DESCRIPTION:Diese Woche sorgt Uwe M. für ein sauberes Umfeld.\n Dieser Event wurde impo
 rtiert von: https://mbg-lilienthal.de/termine/jahresueberblick/24235/uwe-m?
 tmpl=component (https://mbg-lilienthal.de/termine/jahresueberblick/24235/uw
 e-m?tmpl=component)
X-ALT-DESC;FMTTYPE=text/html:<p>Diese Woche sorgt Uwe M. für ein sauberes Umfeld.</p> <a href="https://m
 bg-lilienthal.de/termine/jahresueberblick/24235/uwe-m?tmpl=component">Diese
 r Event wurde importiert von: https://mbg-lilienthal.de/termine/jahresueber
 blick/24235/uwe-m?tmpl=component</a>X-EXTRAINFO:Uwe M. hat Platzdienst.
DTSTAMP:20260419T164948
DTSTART;TZID=Europe/Berlin:20260417T000000
DTEND;TZID=Europe/Berlin:20260418T120000
SEQUENCE:0
TRANSP:OPAQUE
END:VEVENT
END:VCALENDAR