BEGIN:VCALENDAR
VERSION:2.0
PRODID:-//jEvents 2.0 for Joomla//EN
CALSCALE:GREGORIAN
METHOD:PUBLISH
BEGIN:VTIMEZONE
TZID:Europe/Berlin
BEGIN:STANDARD
DTSTART:20231029T020000
RDATE:20240331T030000
TZOFFSETFROM:+0200
TZOFFSETTO:+0100
TZNAME:Europe/Berlin CET
END:STANDARD
BEGIN:STANDARD
DTSTART:20241027T020000
RDATE:20250330T030000
TZOFFSETFROM:+0200
TZOFFSETTO:+0100
TZNAME:Europe/Berlin CET
END:STANDARD
BEGIN:STANDARD
DTSTART:20251026T020000
RDATE:20260329T030000
TZOFFSETFROM:+0200
TZOFFSETTO:+0100
TZNAME:Europe/Berlin CET
END:STANDARD
BEGIN:STANDARD
DTSTART:20261025T020000
RDATE:20270328T030000
TZOFFSETFROM:+0200
TZOFFSETTO:+0100
TZNAME:Europe/Berlin CET
END:STANDARD
BEGIN:STANDARD
DTSTART:20271031T020000
RDATE:20280326T030000
TZOFFSETFROM:+0200
TZOFFSETTO:+0100
TZNAME:Europe/Berlin CET
END:STANDARD
BEGIN:DAYLIGHT
DTSTART:20230816T000000
RDATE:20231029T020000
TZOFFSETFROM:+0100
TZOFFSETTO:+0200
TZNAME:Europe/Berlin CEST
END:DAYLIGHT
BEGIN:DAYLIGHT
DTSTART:20240331T030000
RDATE:20241027T020000
TZOFFSETFROM:+0100
TZOFFSETTO:+0200
TZNAME:Europe/Berlin CEST
END:DAYLIGHT
BEGIN:DAYLIGHT
DTSTART:20250330T030000
RDATE:20251026T020000
TZOFFSETFROM:+0100
TZOFFSETTO:+0200
TZNAME:Europe/Berlin CEST
END:DAYLIGHT
BEGIN:DAYLIGHT
DTSTART:20260329T030000
RDATE:20261025T020000
TZOFFSETFROM:+0100
TZOFFSETTO:+0200
TZNAME:Europe/Berlin CEST
END:DAYLIGHT
BEGIN:DAYLIGHT
DTSTART:20270328T030000
RDATE:20271031T020000
TZOFFSETFROM:+0100
TZOFFSETTO:+0200
TZNAME:Europe/Berlin CEST
END:DAYLIGHT
END:VTIMEZONE
BEGIN:VEVENT
UID:762a147226ec412c8d43de207c0a9948
CATEGORIES:Platzdienst
CREATED:20240306T183752
SUMMARY:Dienste - Sven D.
LOCATION:Modellflugplatz\, Bruchweg
URL;VALUE=URI:https://mbg-lilienthal.de/termine/jahresueberblick/23355/sven-d?tmpl=compon
 ent
DESCRIPTION:Diese Woche sorgt Sven D. für ein sauberes Umfeld.\n Dieser Event wurde imp
 ortiert von: https://mbg-lilienthal.de/termine/jahresueberblick/23355/sven-
 d?tmpl=component (https://mbg-lilienthal.de/termine/jahresueberblick/23355/
 sven-d?tmpl=component)
X-ALT-DESC;FMTTYPE=text/html:<p>Diese Woche sorgt Sven D. für ein sauberes Umfeld.</p> <a href="https://
 mbg-lilienthal.de/termine/jahresueberblick/23355/sven-d?tmpl=component">Die
 ser Event wurde importiert von: https://mbg-lilienthal.de/termine/jahresueb
 erblick/23355/sven-d?tmpl=component</a>X-EXTRAINFO:Sven D. haben Platzdienst.
DTSTAMP:20260423T233735
DTSTART;TZID=Europe/Berlin:20240816T000000
DTEND;TZID=Europe/Berlin:20240817T120000
SEQUENCE:0
TRANSP:OPAQUE
END:VEVENT
END:VCALENDAR