BEGIN:VCALENDAR
VERSION:2.0
PRODID:-//jEvents 2.0 for Joomla//EN
CALSCALE:GREGORIAN
METHOD:PUBLISH
BEGIN:VTIMEZONE
TZID:Europe/Berlin
BEGIN:STANDARD
DTSTART:20231029T020000
RDATE:20240331T030000
TZOFFSETFROM:+0200
TZOFFSETTO:+0100
TZNAME:Europe/Berlin CET
END:STANDARD
BEGIN:STANDARD
DTSTART:20241027T020000
RDATE:20250330T030000
TZOFFSETFROM:+0200
TZOFFSETTO:+0100
TZNAME:Europe/Berlin CET
END:STANDARD
BEGIN:STANDARD
DTSTART:20251026T020000
RDATE:20260329T030000
TZOFFSETFROM:+0200
TZOFFSETTO:+0100
TZNAME:Europe/Berlin CET
END:STANDARD
BEGIN:STANDARD
DTSTART:20261025T020000
RDATE:20270328T030000
TZOFFSETFROM:+0200
TZOFFSETTO:+0100
TZNAME:Europe/Berlin CET
END:STANDARD
BEGIN:STANDARD
DTSTART:20271031T020000
RDATE:20280326T030000
TZOFFSETFROM:+0200
TZOFFSETTO:+0100
TZNAME:Europe/Berlin CET
END:STANDARD
BEGIN:DAYLIGHT
DTSTART:20230525T000000
RDATE:20231029T020000
TZOFFSETFROM:+0100
TZOFFSETTO:+0200
TZNAME:Europe/Berlin CEST
END:DAYLIGHT
BEGIN:DAYLIGHT
DTSTART:20240331T030000
RDATE:20241027T020000
TZOFFSETFROM:+0100
TZOFFSETTO:+0200
TZNAME:Europe/Berlin CEST
END:DAYLIGHT
BEGIN:DAYLIGHT
DTSTART:20250330T030000
RDATE:20251026T020000
TZOFFSETFROM:+0100
TZOFFSETTO:+0200
TZNAME:Europe/Berlin CEST
END:DAYLIGHT
BEGIN:DAYLIGHT
DTSTART:20260329T030000
RDATE:20261025T020000
TZOFFSETFROM:+0100
TZOFFSETTO:+0200
TZNAME:Europe/Berlin CEST
END:DAYLIGHT
BEGIN:DAYLIGHT
DTSTART:20270328T030000
RDATE:20271031T020000
TZOFFSETFROM:+0100
TZOFFSETTO:+0200
TZNAME:Europe/Berlin CEST
END:DAYLIGHT
END:VTIMEZONE
BEGIN:VEVENT
UID:a16ff2b0a646425bd7d7cb6593c10f73
CATEGORIES:Extern
CREATED:20240307T203115
SUMMARY:Termine - Einweihung der “Startbahn West” MSV Condor in Göttingen
LOCATION:Modellflugplatz\, Elliehausen
URL;VALUE=URI:https://mbg-lilienthal.de/termine/jahresueberblick/23444/einweihung-der-“st
 artbahn-west”-msv-condor-in-göttingen?tmpl=component
DESCRIPTION:<h1><strong>MSV Condor eröffnet Startbahn West</strong></h1><p><em><strong>
 Veranstaltung außerhalb der MBG für mit Condor befreundete Vereine</strong>
 </em></p><p>Der MSV hat auf seiner Camping- und Parkfläche aktuell noch Pla
 tz und bittet um Anmeldung, wenn Camping gewünscht ist.</p><p> </p><p>Sie w
 ürden sich sehr freuen, Freunde aus der Nachbarschaft am Wochenende nach Pf
 ingsten auf ihrem Gelände oberhalb von Elliehausen begrüßen zu dürfen. Die 
 Anreise ist ab Donnerstag möglich.</p><p><strong>Anmeldung bitte unter <u><
 !-- Diese E-Mail Adresse ist vor Spambots geschützt. --><a href="javascript
 :/* Diese E-Mail Adresse ist vor Spambots gesch&uuml;tzt.*/"><span class="c
 loaked_email ep_2aea6a65"><span data-ep-a="&#102;&#108;ug" data-ep-b="&#101
 ;"><span data-ep-a="&#116;&#97;&#103;&#64;" data-ep-b="&#111;r&#46;&#100;">
 <span data-ep-a="ms&#118;-" data-ep-b="c&#111;nd"></span></span></span></sp
 an><script>RegularLabs.EmailProtector.unCloak("ep_2aea6a65");</script><span
  class="cloaked_email ep_6fa2843c" style="display:none;"><span data-ep-b="e
 " data-ep-a="&#102;&#108;&#117;g"><span data-ep-b="&#111;&#114;.&#100;" dat
 a-ep-a="&#116;&#97;&#103;&#64;"><span data-ep-b="&#99;on&#100;" data-ep-a="
 &#109;&#115;&#118;&#45;"></span></span></span></span></a><script>RegularLab
 s.EmailProtector.unCloak("ep_6fa2843c", true);</script>.</u></strong></p><p
 > </p><p>Ansprechpartner ist: Wolfgang Schmitt (Schriftführer) über obige E
 ventmailadresse.</p><p> </p><p> </p> <a href="https://mbg-lilienthal.de/ter
 mine/jahresueberblick/23444/einweihung-der-“startbahn-west”-msv-condor-in-g
 öttingen?tmpl=component">Dieser Event wurde importiert von: https://mbg-lil
 ienthal.de/termine/jahresueberblick/23444/einweihung-der-“startbahn-west”-m
 sv-condor-in-göttingen?tmpl=component</a>
X-ALT-DESC;FMTTYPE=text/html:<h1><strong>MSV Condor eröffnet Startbahn West</strong></h1><p><em><strong>
 Veranstaltung außerhalb der MBG für mit Condor befreundete Vereine</strong>
 </em></p><p>Der MSV hat auf seiner Camping- und Parkfläche aktuell noch Pla
 tz und bittet um Anmeldung, wenn Camping gewünscht ist.</p><p> </p><p>Sie w
 ürden sich sehr freuen, Freunde aus der Nachbarschaft am Wochenende nach Pf
 ingsten auf ihrem Gelände oberhalb von Elliehausen begrüßen zu dürfen. Die 
 Anreise ist ab Donnerstag möglich.</p><p><strong>Anmeldung bitte unter <u><
 !-- Diese E-Mail Adresse ist vor Spambots geschützt. --><a href="https://mb
 g-lilienthal.de/javascript:/* Diese E-Mail Adresse ist vor Spambots gesch&u
 uml;tzt.*/"><span class="cloaked_email ep_2aea6a65"><span data-ep-a="&#102;
 &#108;ug" data-ep-b="&#101;"><span data-ep-a="&#116;&#97;&#103;&#64;" data-
 ep-b="&#111;r&#46;&#100;"><span data-ep-a="ms&#118;-" data-ep-b="c&#111;nd"
 ></span></span></span></span><script>RegularLabs.EmailProtector.unCloak("ep
 _2aea6a65");</script><span class="cloaked_email ep_6fa2843c" style="display
 :none;"><span data-ep-b="e" data-ep-a="&#102;&#108;&#117;g"><span data-ep-b
 ="&#111;&#114;.&#100;" data-ep-a="&#116;&#97;&#103;&#64;"><span data-ep-b="
 &#99;on&#100;" data-ep-a="&#109;&#115;&#118;&#45;"></span></span></span></s
 pan></a><script>RegularLabs.EmailProtector.unCloak("ep_6fa2843c", true);</s
 cript>.</u></strong></p><p> </p><p>Ansprechpartner ist: Wolfgang Schmitt (S
 chriftführer) über obige Eventmailadresse.</p><p> </p><p> </p> <a href="htt
 ps://mbg-lilienthal.de/termine/jahresueberblick/23444/einweihung-der-“start
 bahn-west”-msv-condor-in-göttingen?tmpl=component">Dieser Event wurde impor
 tiert von: https://mbg-lilienthal.de/termine/jahresueberblick/23444/einweih
 ung-der-“startbahn-west”-msv-condor-in-göttingen?tmpl=component</a>CONTACT:RegularLabs.EmailProtector.unCloak("ep_e89b88bf");
X-EXTRAINFO:https://msv-condor.de/events/categories/condor-oeffentlich/
DTSTAMP:20260423T074850
DTSTART;TZID=Europe/Berlin;VALUE=DATE:20240525
DTEND;TZID=Europe/Berlin;VALUE=DATE:20240526
SEQUENCE:0
TRANSP:OPAQUE
END:VEVENT
END:VCALENDAR